BEGIN:VCALENDAR
VERSION:2.0
PRODID:-//ChamberMaster//Event Calendar 2.0//EN
METHOD:PUBLISH
X-PUBLISHED-TTL:P3D
REFRESH-INTERVAL:P3D
CALSCALE:GREGORIAN
BEGIN:VEVENT
DTSTART:20241128T030000Z
DTEND:20241128T050000Z
X-MICROSOFT-CDO-ALLDAYEVENT:FALSE
SUMMARY:Thanksgiving Sacred Vibrations Circle
DESCRIPTION:Sacred Vibration Circle on the Rooftop: Special Guest Mayre Mart nez\n\nJoin us for a powerful evening of gratitude\, healing\, and connection at our November Sacred Vibration Circle. We're honored to have Mayre Mart nez winner of Latin American Idol\, Venezuelan-Cuban singer\, songwriter\, producer\, actress\, and renowned vocal coach as our special guest. Known for her extraordinary and powerful voice\, Mayre will guide us through a transcendent performance in Light Language\, channeling high-frequency vibrations to bring peace\, healing\, and unity to the collective.
X-ALT-DESC;FMTTYPE=text/html:<strong>Sacred Vibration Circle on the Rooftop: Special Guest Mayre Mart&iacute\;nez</strong><br />\nJoin us for a powerful evening of gratitude\, healing\, and connection at our November Sacred Vibration Circle. We&rsquo\;re honored to have Mayre Mart&iacute\;nez&mdash\;winner of Latin American Idol\, Venezuelan-Cuban singer\, songwriter\, producer\, actress\, and renowned vocal coach&mdash\;as our special guest. Known for her extraordinary and powerful voice\, Mayre will guide us through a transcendent performance in Light Language\, channeling high-frequency vibrations to bring peace\, healing\, and unity to the collective.
LOCATION:Amaloa Healing Arts\, Rooftop 200 Pier Ave STE 206 Hermosa Beach\, CA 90254
UID:e.2438.10808
SEQUENCE:3
DTSTAMP:20260422T192306Z
URL:https://business.hbchamber.net/events/details/thanksgiving-sacred-vibrations-circle-10808
END:VEVENT

END:VCALENDAR
