BEGIN:VCALENDAR
VERSION:2.0
PRODID:-//ChamberMaster//Event Calendar 2.0//EN
METHOD:PUBLISH
X-PUBLISHED-TTL:P3D
REFRESH-INTERVAL:P3D
CALSCALE:GREGORIAN
BEGIN:VEVENT
DTSTART:20250423T010000Z
DTEND:20250423T023000Z
X-MICROSOFT-CDO-ALLDAYEVENT:FALSE
SUMMARY:Tea & Trusts: Strategic Estate Planning for Business Owners\, Professionals\, and Their Families
DESCRIPTION:You're invited to an elevated estate planning experience designed for business owners\, professionals\, and community leaders who value smart strategy\, asset protection\, and lasting peace of mind for themselves and the people they love.\n\nJoin us for Tea & Trusts\, a relaxed yet informative legal event where we'll spill the tea on what really happens when legal planning is skipped or handled by a budget attorney or DIY form.\n\nTea & Trusts: Where Holistic Strategy Meets Real-Life Protection\n\nDate: April 22\, 2025\n\nTime: 6:00 PM   7:30 PM\n\nLocation: Love.Life Holistic & Wellness Club\, Community Room\n\nIncludes: Complimentary tea\, light bites\, and a raffle for a luxury Japanese tea set\n\nHolistic planning means looking at the full picture not just documents. It's about aligning your estate plan with your business\, your family\, and your long-term goals. This event brings clarity\, strategy\, and a grounded approach to protecting what you've built and what you hope to pass on.\n\nAt This Practical Session\, You'll Learn:\n\n\n	\n	Why a will alone may not be enough and what a trust can really do\n	\n	\n	How to avoid probate\, court delays\, unnecessary taxes\, and legal messes\n	\n	\n	What every parent\, property owner\, and entrepreneur should know to protect their legacy\n	\n\n\nAlready have a Trust? We'll also cover how often it should be reviewed because even solid plans need a regular checkup.\n\nAbout the Speaker\n\nRosanna Savone is the founder of Blue Pinnacle Law\, a boutique firm serving entrepreneurs and families. With a background in business law\, estate planning\, and trademark protection\, she helps clients structure smart legal foundations and plan for what's next. She's also a proud Hermosa Beach Chamber of Commerce member and passionate about holistic planning that protects both what you've built and who you love.\n\nAbout the Giveaway\n\nAll attendees will have a chance to win the Voyage Tea Set by Yamatsu a sculptural\, artisan-crafted porcelain set valued at $350\, from one of Japan's most celebrated ceramic makers. Designed to elevate your tea ritual\, it's as functional as it is beautiful.\n\nChamber-Exclusive Offer\n\nChamber members who attend will receive $250 off a legacy planning session booked at the event.\n\nSpace is limited. RSVP now: https://bit.ly/teaandtrustsapril\n\nIf you've ever wondered whether your estate plan is as strategic as your business plan\, this event is for you.\n\nCome sip some tea\, connect with fellow business owners\, and walk away with clarity and peace of mind.\n\nWarm regards\,\n\nRosanna Savone\, Esq.\n\nBlue Pinnacle Law\, PC
X-ALT-DESC;FMTTYPE=text/html:<p><span style="background-color:transparent\; color:rgb(0\, 0\, 0)\; font-family:arial\,sans-serif\; font-size:11pt">You&rsquo\;re invited to an elevated estate planning experience designed for business owners\, professionals\, and community leaders who value smart strategy\, asset protection\, and lasting peace of mind&mdash\;for themselves and the people they love.</span></p>\n\n<p><span style="background-color:transparent\; color:rgb(0\, 0\, 0)\; font-family:arial\,sans-serif\; font-size:11pt">Join us for </span><strong>Tea &amp\; Trusts</strong><span style="background-color:transparent\; color:rgb(0\, 0\, 0)\; font-family:arial\,sans-serif\; font-size:11pt">\, a relaxed yet informative legal event where we&rsquo\;ll </span><em>spill the tea</em><span style="background-color:transparent\; color:rgb(0\, 0\, 0)\; font-family:arial\,sans-serif\; font-size:11pt"> on what really happens when legal planning is skipped&mdash\;or handled by a budget attorney or DIY form.</span></p>\n\n<h3><strong>Tea &amp\; Trusts: Where Holistic Strategy Meets Real-Life Protection</strong></h3>\n\n<p><strong>Date:</strong><span style="background-color:transparent\; color:rgb(0\, 0\, 0)\; font-family:arial\,sans-serif\; font-size:11pt"> April 22\, 2025</span><br />\n<strong>Time:</strong><span style="background-color:transparent\; color:rgb(0\, 0\, 0)\; font-family:arial\,sans-serif\; font-size:11pt"> 6:00 PM &ndash\; 7:30 PM</span><br />\n<strong>Location:</strong><span style="background-color:transparent\; color:rgb(0\, 0\, 0)\; font-family:arial\,sans-serif\; font-size:11pt"> Love.Life Holistic &amp\; Wellness Club\, Community Room</span><br />\n<strong>Includes:</strong><span style="background-color:transparent\; color:rgb(0\, 0\, 0)\; font-family:arial\,sans-serif\; font-size:11pt"> Complimentary tea\, light bites\, and a raffle for a luxury Japanese tea set</span></p>\n\n<p><strong>Holistic planning means looking at the full picture&mdash\;not just documents.</strong><span style="background-color:transparent\; color:rgb(0\, 0\, 0)\; font-family:arial\,sans-serif\; font-size:11pt"> It&rsquo\;s about aligning your estate plan with your business\, your family\, and your long-term goals. This event brings clarity\, strategy\, and a grounded approach to protecting what you&rsquo\;ve built&mdash\;and what you hope to pass on.</span></p>\n\n<h3><strong>At This Practical Session\, You&rsquo\;ll Learn:</strong></h3>\n\n<ul>\n	<li>\n	<p><span style="background-color:transparent\; font-size:11pt">Why a will alone may not be enough&mdash\;and what a trust can really do</span></p>\n	</li>\n	<li>\n	<p><span style="background-color:transparent\; font-size:11pt">How to avoid probate\, court delays\, unnecessary taxes\, and legal messes</span></p>\n	</li>\n	<li>\n	<p><span style="background-color:transparent\; font-size:11pt">What every parent\, property owner\, and entrepreneur should know to protect their legacy</span></p>\n	</li>\n</ul>\n\n<p><strong>Already have a Trust?</strong><span style="background-color:transparent\; color:rgb(0\, 0\, 0)\; font-family:arial\,sans-serif\; font-size:11pt"> We&rsquo\;ll also cover how often it should be reviewed&mdash\;because even solid plans need a regular checkup.</span></p>\n\n<h3><strong>About the Speaker</strong></h3>\n\n<p><span style="background-color:transparent\; color:rgb(0\, 0\, 0)\; font-family:arial\,sans-serif\; font-size:11pt">Rosanna Savone is the founder of Blue Pinnacle Law\, a boutique firm serving entrepreneurs and families. With a background in business law\, estate planning\, and trademark protection\, she helps clients structure smart legal foundations and plan for what&rsquo\;s next. She&rsquo\;s also a proud Hermosa Beach Chamber of Commerce member and passionate about holistic planning that protects both what you&rsquo\;ve built and who you love.</span></p>\n\n<h3><strong>About the Giveaway</strong></h3>\n\n<p><span style="background-color:transparent\; color:rgb(0\, 0\, 0)\; font-family:arial\,sans-serif\; font-size:11pt">All attendees will have a chance to win the Voyage Tea Set by Yamatsu&mdash\;a sculptural\, artisan-crafted porcelain set valued at $350\, from one of Japan&rsquo\;s most celebrated ceramic makers. Designed to elevate your tea ritual\, it&rsquo\;s as functional as it is beautiful.</span></p>\n\n<h3><strong>Chamber-Exclusive Offer</strong></h3>\n\n<p><span style="background-color:transparent\; color:rgb(0\, 0\, 0)\; font-family:arial\,sans-serif\; font-size:11pt">Chamber members who attend will receive $250 off a legacy planning session booked at the event.</span></p>\n\n<p><strong>Space is limited. RSVP now:</strong><span style="background-color:transparent\; color:rgb(0\, 0\, 0)\; font-family:arial\,sans-serif\; font-size:11pt"> </span><a href="https://www.eventbrite.com/e/tea-trusts-tickets-1305992973139?utm-campaign=social&amp\;utm-content=attendeeshare&amp\;utm-medium=discovery&amp\;utm-term=listing&amp\;utm-source=cp&amp\;aff=ebdsshcopyurl" style="text-decoration-line: none\;"><span style="background-color:transparent\; color:rgb(17\, 85\, 204)\; font-family:arial\,sans-serif\; font-size:11pt">https://bit.ly/teaandtrustsapril</span></a></p>\n\n<p><span style="background-color:transparent\; color:rgb(0\, 0\, 0)\; font-family:arial\,sans-serif\; font-size:11pt">If you&rsquo\;ve ever wondered whether your estate plan is as strategic as your business plan\, this event is for you.</span></p>\n\n<p><span style="background-color:transparent\; color:rgb(0\, 0\, 0)\; font-family:arial\,sans-serif\; font-size:11pt">Come sip some tea\, connect with fellow business owners\, and walk away with clarity and peace of mind.</span></p>\n\n<p><span style="background-color:transparent\; color:rgb(0\, 0\, 0)\; font-family:arial\,sans-serif\; font-size:11pt">Warm regards\,</span><br />\n<span style="background-color:transparent\; color:rgb(0\, 0\, 0)\; font-family:arial\,sans-serif\; font-size:11pt">Rosanna Savone\, Esq.</span><br />\n<em>Blue Pinnacle Law\, PC</em></p>\n\n<div>&nbsp\;</div>\n
LOCATION:
UID:e.2438.11519
SEQUENCE:3
DTSTAMP:20260422T212137Z
URL:https://business.hbchamber.net/events/details/tea-trusts-strategic-estate-planning-for-business-owners-professionals-and-their-families-11519
END:VEVENT

END:VCALENDAR
