BEGIN:VCALENDAR
VERSION:2.0
PRODID:-//ChamberMaster//Event Calendar 2.0//EN
METHOD:PUBLISH
X-PUBLISHED-TTL:P3D
REFRESH-INTERVAL:P3D
CALSCALE:GREGORIAN
BEGIN:VEVENT
DTSTART:20220203T013000Z
DTEND:20220203T043000Z
X-MICROSOFT-CDO-ALLDAYEVENT:FALSE
SUMMARY:Tatiana Erse @The Stanton
DESCRIPTION:
X-ALT-DESC;FMTTYPE=text/html:
LOCATION:The Stanton Hermosa Beach 844 Hermosa Ave. Hermosa Beach\, 90254
UID:e.2438.5121
SEQUENCE:3
DTSTAMP:20260421T133110Z
URL:https://business.hbchamber.net/events/details/tatiana-erse-the-stanton-5121
END:VEVENT

END:VCALENDAR
