BEGIN:VCALENDAR
VERSION:2.0
PRODID:-//ChamberMaster//Event Calendar 2.0//EN
METHOD:PUBLISH
X-PUBLISHED-TTL:P3D
REFRESH-INTERVAL:P3D
CALSCALE:GREGORIAN
BEGIN:VEVENT
DTSTART;VALUE=DATE:20250207
DTEND;VALUE=DATE:20250209
TRANSP:TRANSPARENT
X-MICROSOFT-CDO-ALLDAYEVENT:TRUE
SUMMARY:SXSB Festival
DESCRIPTION:An annual 2 day event Featuring Music + Film + Art + Poetry Celebrating South Bay/Pedro punk and art history!
X-ALT-DESC;FMTTYPE=text/html:An annual 2 day event Featuring Music + Film + Art + Poetry Celebrating South Bay/Pedro punk and art history!&nbsp\;
LOCATION:
UID:e.2438.11410
SEQUENCE:3
DTSTAMP:20260422T173215Z
URL:https://business.hbchamber.net/events/details/sxsb-festival-11410
END:VEVENT

END:VCALENDAR
