BEGIN:VCALENDAR
VERSION:2.0
PRODID:-//ChamberMaster//Event Calendar 2.0//EN
METHOD:PUBLISH
X-PUBLISHED-TTL:P3D
REFRESH-INTERVAL:P3D
CALSCALE:GREGORIAN
BEGIN:VEVENT
DTSTART:20250426T180000Z
DTEND:20250427T000000Z
X-MICROSOFT-CDO-ALLDAYEVENT:FALSE
SUMMARY:Surfers Walk of Fame Weekend: Surfers Walk of Fame and Spyder Surf Fest
DESCRIPTION:The City of Hermosa Beach will honor this year's inductees with an induction ceremony beginning at 11:00am on Pier Plaza\, followed by Spyder Surf Fest\, which includes the action sports industry's most celebrated athletes\, brands\, fashion\, music\, giveaways and more.\n\n\n\nFor additional event information\, visit www.hermosabeach.gov/surferswalkoffame\, or contact the Community Resources Department at (310) 318-0280.
X-ALT-DESC;FMTTYPE=text/html:The City of Hermosa Beach will honor this year&rsquo\;s inductees with an induction ceremony beginning at 11:00am on Pier Plaza\, followed by Spyder Surf Fest\, which includes the action sports industry&rsquo\;s most celebrated athletes\, brands\, fashion\, music\, giveaways and more.<br />\n<br />\nFor additional event information\, visit <a href="http://www.hermosabeach.gov/surferswalkoffame">www.hermosabeach.gov/surferswalkoffame</a>\, or contact the Community Resources Department at (310) 318-0280.<br />\n
LOCATION:Pier Plaza 1 Pier Avenue Hermosa Beach\, California 90254
UID:e.2438.11558
SEQUENCE:3
DTSTAMP:20260422T212303Z
URL:https://business.hbchamber.net/events/details/surfers-walk-of-fame-weekend-surfers-walk-of-fame-and-spyder-surf-fest-11558
END:VEVENT

END:VCALENDAR
