BEGIN:VCALENDAR
VERSION:2.0
PRODID:-//ChamberMaster//Event Calendar 2.0//EN
METHOD:PUBLISH
X-PUBLISHED-TTL:P3D
REFRESH-INTERVAL:P3D
CALSCALE:GREGORIAN
BEGIN:VEVENT
DTSTART:20220423T000000Z
DTEND:20220423T020000Z
X-MICROSOFT-CDO-ALLDAYEVENT:FALSE
SUMMARY:Surfers Walk of Fame Kick Off Party
DESCRIPTION:Surf Film by Brad Jacobson and South Bay Surf Awards \n\n\n\nPresented by the Historical Society and The South Bay Boardriders Club
X-ALT-DESC;FMTTYPE=text/html:Surf Film by Brad Jacobson and South Bay Surf Awards&nbsp\;<br />\n<br />\nPresented by the Historical Society and The South Bay Boardriders Club
LOCATION:Community Theatre 710 Pier Ave. Hermosa Beach\, 90254
UID:e.2438.5387
SEQUENCE:3
DTSTAMP:20260421T092413Z
URL:https://business.hbchamber.net/events/details/surfers-walk-of-fame-kick-off-party-5387
END:VEVENT

END:VCALENDAR
