BEGIN:VCALENDAR
VERSION:2.0
PRODID:-//ChamberMaster//Event Calendar 2.0//EN
METHOD:PUBLISH
X-PUBLISHED-TTL:P3D
REFRESH-INTERVAL:P3D
CALSCALE:GREGORIAN
BEGIN:VEVENT
DTSTART:20220423T000000Z
DTEND:20220423T030000Z
X-MICROSOFT-CDO-ALLDAYEVENT:FALSE
SUMMARY:Surfer's Walk of Fame Kick Off Party
DESCRIPTION:Surfing is a large part of Hermosa's Heritage. In order to honor our strong surfing history we annually recognize Hermosa's surfing legends with the Surfer's Walk of Fame\, located on the Hermosa Beach Pier. Each year the City holds a Surfer's Walk of Fame Induction Ceremony to commemorate the newly chosen inductees. Each inducted surfer is acknowledged by the placement of their name engraved on bronze plaques embedded along the pier.\n \n\nCongratulations to the 2022 Inductees:\n\n \n\nCharlie Quesnel: South Bay Legend\n\n \n\nJohn Teague: Pioneer\n\n \n\nNick Christensen: Cultural Legend\n\n \n\nJosette Lagardere: Champion
X-ALT-DESC;FMTTYPE=text/html:<h2 class="font_2" style="margin: 0px\; padding: 0px\; border: 0px\; outline: 0px\; vertical-align: baseline\; background: transparent\; pointer-events: auto\; font-size: 20px\; line-height: normal\; color: rgb(var(--color_15))\;"><span style="margin: 0px\; padding: 0px\; border: 0px\; outline: 0px\; vertical-align: baseline\; background: transparent\;"><span class="color_11" style="margin: 0px\; padding: 0px\; border: 0px\; outline: 0px\; vertical-align: baseline\; background: transparent\; color: rgb(var(--color_11))\;"><span style="margin: 0px\; padding: 0px\; border: 0px\; outline: 0px\; vertical-align: baseline\; background: transparent\; font-family: raleway\, sans-serif\;"><span style="margin: 0px\; padding: 0px\; border: 0px\; outline: 0px\; vertical-align: baseline\; background: transparent\; font-size: 13px\;">Surfing is a large part of Hermosa&rsquo\;s Heritage. In order to honor our strong surfing history we annually recognize Hermosa&rsquo\;s surfing legends with the Surfer&rsquo\;s Walk of Fame\, located on the Hermosa Beach Pier. Each year the City holds a Surfer&rsquo\;s Walk of Fame Induction Ceremony to commemorate the newly chosen inductees. Each inducted surfer is acknowledged by the placement of their name engraved on bronze plaques embedded along the pier.</span></span></span></span></h2>\n&nbsp\;\n\n<h2 class="font_2" style="margin: 0px\; padding: 0px\; border: 0px\; outline: 0px\; vertical-align: baseline\; background: transparent\; pointer-events: auto\; font-size: 23px\; line-height: normal\; color: rgb(var(--color_15))\; text-align: center\;"><span style="margin: 0px\; padding: 0px\; border: 0px\; outline: 0px\; vertical-align: baseline\; background: transparent\;"><span style="margin: 0px\; padding: 0px\; border: 0px\; outline: 0px\; vertical-align: baseline\; background: transparent\; font-family: raleway\, sans-serif\;">Congratulations to the 2022 Inductees:</span></span></h2>\n\n<p class="font_8" style="margin: 0px\; padding: 0px\; border: 0px\; outline: 0px\; vertical-align: baseline\; background: transparent\; pointer-events: auto\; font-size: 14px\; line-height: normal\; color: rgb(var(--color_15))\; text-align: center\;">&nbsp\;</p>\n\n<p class="font_8" style="margin: 0px\; padding: 0px\; border: 0px\; outline: 0px\; vertical-align: baseline\; background: transparent\; pointer-events: auto\; font-size: 14px\; line-height: normal\; color: rgb(var(--color_15))\; text-align: center\;"><span style="margin: 0px\; padding: 0px\; border: 0px\; outline: 0px\; vertical-align: baseline\; background: transparent\;"><span style="margin: 0px\; padding: 0px\; border: 0px\; outline: 0px\; vertical-align: baseline\; background: transparent\; font-family: raleway\, sans-serif\;">Charlie Quesnel: South Bay Legend</span></span></p>\n\n<p class="font_8" style="margin: 0px\; padding: 0px\; border: 0px\; outline: 0px\; vertical-align: baseline\; background: transparent\; pointer-events: auto\; font-size: 14px\; line-height: normal\; color: rgb(var(--color_15))\; text-align: center\;">&nbsp\;</p>\n\n<p class="font_8" style="margin: 0px\; padding: 0px\; border: 0px\; outline: 0px\; vertical-align: baseline\; background: transparent\; pointer-events: auto\; font-size: 14px\; line-height: normal\; color: rgb(var(--color_15))\; text-align: center\;"><span style="margin: 0px\; padding: 0px\; border: 0px\; outline: 0px\; vertical-align: baseline\; background: transparent\;"><span style="margin: 0px\; padding: 0px\; border: 0px\; outline: 0px\; vertical-align: baseline\; background: transparent\; font-family: raleway\, sans-serif\;">John Teague: Pioneer</span></span></p>\n\n<p class="font_8" style="margin: 0px\; padding: 0px\; border: 0px\; outline: 0px\; vertical-align: baseline\; background: transparent\; pointer-events: auto\; font-size: 14px\; line-height: normal\; color: rgb(var(--color_15))\; text-align: center\;">&nbsp\;</p>\n\n<p class="font_8" style="margin: 0px\; padding: 0px\; border: 0px\; outline: 0px\; vertical-align: baseline\; background: transparent\; pointer-events: auto\; font-size: 14px\; line-height: normal\; color: rgb(var(--color_15))\; text-align: center\;"><span style="margin: 0px\; padding: 0px\; border: 0px\; outline: 0px\; vertical-align: baseline\; background: transparent\;"><span style="margin: 0px\; padding: 0px\; border: 0px\; outline: 0px\; vertical-align: baseline\; background: transparent\; font-family: raleway\, sans-serif\;">Nick Christensen: Cultural Legend</span></span></p>\n\n<p class="font_8" style="margin: 0px\; padding: 0px\; border: 0px\; outline: 0px\; vertical-align: baseline\; background: transparent\; pointer-events: auto\; font-size: 14px\; line-height: normal\; color: rgb(var(--color_15))\; text-align: center\;">&nbsp\;</p>\n\n<p class="font_8" style="margin: 0px\; padding: 0px\; border: 0px\; outline: 0px\; vertical-align: baseline\; background: transparent\; pointer-events: auto\; font-size: 14px\; line-height: normal\; color: rgb(var(--color_15))\; text-align: center\;"><span style="margin: 0px\; padding: 0px\; border: 0px\; outline: 0px\; vertical-align: baseline\; background: transparent\;"><span style="margin: 0px\; padding: 0px\; border: 0px\; outline: 0px\; vertical-align: baseline\; background: transparent\; font-family: raleway\, sans-serif\;">Josette Lagardere: Champion</span></span></p>\n
LOCATION:Hermosa Beach Museum & Community Center
UID:e.2438.5372
SEQUENCE:3
DTSTAMP:20260421T092242Z
URL:https://business.hbchamber.net/events/details/surfer-s-walk-of-fame-kick-off-party-5372
END:VEVENT

END:VCALENDAR
