BEGIN:VCALENDAR
VERSION:2.0
PRODID:-//ChamberMaster//Event Calendar 2.0//EN
METHOD:PUBLISH
X-PUBLISHED-TTL:P3D
REFRESH-INTERVAL:P3D
CALSCALE:GREGORIAN
BEGIN:VEVENT
DTSTART:20220207T000000Z
DTEND:20220207T040000Z
X-MICROSOFT-CDO-ALLDAYEVENT:FALSE
SUMMARY:Sunset Vibes @ Vista
DESCRIPTION:An open air silent disco celebration! There will be three stages\, nine DJs\, and you get to choose your vibe! \n\n\n\nPromo code offer for 15% discount: hbchamber
X-ALT-DESC;FMTTYPE=text/html:An open air silent disco celebration! There will be three stages\, nine DJs\, and you get to choose your vibe!&nbsp\;<br />\n<br />\n<span style="color: rgb(34\, 34\, 34)\; font-family: Arial\, Helvetica\, sans-serif\; font-size: small\;">Promo code offer for 15% discount: hbchamber</span>
LOCATION:Beachside at Vista 1250 The Strand\, Hermosa Beach\, 90254
UID:e.2438.5116
SEQUENCE:3
DTSTAMP:20260421T133818Z
URL:https://business.hbchamber.net/events/details/sunset-vibes-vista-5116
END:VEVENT

END:VCALENDAR
