BEGIN:VCALENDAR
VERSION:2.0
PRODID:-//ChamberMaster//Event Calendar 2.0//EN
METHOD:PUBLISH
X-PUBLISHED-TTL:P3D
REFRESH-INTERVAL:P3D
CALSCALE:GREGORIAN
BEGIN:VEVENT
DTSTART:20250320T210000Z
DTEND:20250320T230000Z
X-MICROSOFT-CDO-ALLDAYEVENT:FALSE
SUMMARY:Sunrise Senior Living: Solar Celebration
DESCRIPTION:Join us as we celebrate our new energy-efficient community and the power of sustainable living! Live music and entertainment\, delicious food and drinks\, tour our new solar-powered community\, special guests\, and more!
X-ALT-DESC;FMTTYPE=text/html:Join us as we celebrate our new energy-efficient community and the power of sustainable living! Live music and entertainment\, delicious food and drinks\, tour our new solar-powered community\, special guests\, and more!&nbsp\;
LOCATION:Sunrise Senior Living 1837 Pacific Coast Hwy Hermosa Beach\, CA 90254
UID:e.2438.11442
SEQUENCE:3
DTSTAMP:20260422T210440Z
URL:https://business.hbchamber.net/events/details/sunrise-senior-living-solar-celebration-11442
END:VEVENT

END:VCALENDAR
