BEGIN:VCALENDAR
VERSION:2.0
PRODID:-//ChamberMaster//Event Calendar 2.0//EN
METHOD:PUBLISH
X-PUBLISHED-TTL:P3D
REFRESH-INTERVAL:P3D
CALSCALE:GREGORIAN
BEGIN:VEVENT
DTSTART:20250715T013000Z
DTEND:20250715T023000Z
X-MICROSOFT-CDO-ALLDAYEVENT:FALSE
SUMMARY:Summer Free Fitness: Mindful Yoga on the Beach
DESCRIPTION:Beach Cities Sumer Free Fitness Series presents Mindful Yoga on the Beach\, on the sand just south of the Manhattan Beach Pier.  This event is in partnership with the City of Manhattan Beach. Instructors from BCHD's Center for Health & Fitness will lead all Free Fitness sessions.
X-ALT-DESC;FMTTYPE=text/html:Beach Cities Sumer Free Fitness Series presents Mindful Yoga on the Beach\, on the sand just south of the Manhattan Beach Pier.&nbsp\; This event is in partnership with the City of Manhattan Beach. Instructors from BCHD&rsquo\;s Center for Health &amp\; Fitness will lead all Free Fitness sessions.&nbsp\;
LOCATION:On the sand just south of the Manhattan Beach Pier
UID:e.2438.12456
SEQUENCE:3
DTSTAMP:20260423T021944Z
URL:https://business.hbchamber.net/events/details/summer-free-fitness-mindful-yoga-on-the-beach-12456
END:VEVENT

END:VCALENDAR
