BEGIN:VCALENDAR
VERSION:2.0
PRODID:-//ChamberMaster//Event Calendar 2.0//EN
METHOD:PUBLISH
X-PUBLISHED-TTL:P3D
REFRESH-INTERVAL:P3D
CALSCALE:GREGORIAN
BEGIN:VEVENT
DTSTART:20220327T230000Z
DTEND:20220328T030000Z
X-MICROSOFT-CDO-ALLDAYEVENT:FALSE
SUMMARY:Stronger Together
DESCRIPTION:Join the HERmosa Circle for a free concert featuring local female artists and silent auction at Patrick Molloy's! Please make sure to RSVP.
X-ALT-DESC;FMTTYPE=text/html:Join the HERmosa Circle for a f<font color="#222222" face="Arial\, Helvetica\, sans-serif" size="2"><span style="caret-color: rgb(34\, 34\, 34)\;">ree concert featuring local female artists and silent auction at Patrick Molloy&#39\;s!&nbsp\;Please&nbsp\;make sure to RSVP.</span></font>
LOCATION:Patrick Molloy's 50 Pier Avenue Hermosa Beach\, CA 90254
UID:e.2438.5293
SEQUENCE:3
DTSTAMP:20260421T105215Z
URL:https://business.hbchamber.net/events/details/stronger-together-5293
END:VEVENT

END:VCALENDAR
