BEGIN:VCALENDAR
VERSION:2.0
PRODID:-//ChamberMaster//Event Calendar 2.0//EN
METHOD:PUBLISH
X-PUBLISHED-TTL:P3D
REFRESH-INTERVAL:P3D
CALSCALE:GREGORIAN
BEGIN:VEVENT
DTSTART:20250411T003000Z
DTEND:20250411T030000Z
X-MICROSOFT-CDO-ALLDAYEVENT:FALSE
SUMMARY:State of the City Address with Mayor Dean Francois
DESCRIPTION:Join us for the State of the City Address with Mayor Dean Francois at the Community Theater\, 710 Pier Avenue. Social Hour begins at 5:30 PM and the Presentation begins at 6:45 PM. RSVP is requested\, but entry is free.
X-ALT-DESC;FMTTYPE=text/html:Join us for the State of the City Address with Mayor Dean Francois at the Community Theater\, 710 Pier Avenue. Social Hour begins at 5:30 PM and the Presentation begins at 6:45 PM. RSVP is requested\, but entry is free.
LOCATION:Hermosa Beach Community Theatre 710 Pier Ave Hermosa Beach\, CA 90254
UID:e.2438.11454
SEQUENCE:3
DTSTAMP:20260422T212004Z
URL:https://business.hbchamber.net/events/details/state-of-the-city-address-with-mayor-dean-francois-11454
END:VEVENT

END:VCALENDAR
