BEGIN:VCALENDAR
VERSION:2.0
PRODID:-//ChamberMaster//Event Calendar 2.0//EN
METHOD:PUBLISH
X-PUBLISHED-TTL:P3D
REFRESH-INTERVAL:P3D
CALSCALE:GREGORIAN
BEGIN:VEVENT
DTSTART:20250518T000000Z
DTEND:20250518T040000Z
X-MICROSOFT-CDO-ALLDAYEVENT:FALSE
SUMMARY:State of the Art: Annual Fundraiser for Indivisible Arts
DESCRIPTION:Don't miss the most fun & most impactful night of the year for Indivisible Arts!
X-ALT-DESC;FMTTYPE=text/html:Don&rsquo\;t miss the most fun &amp\; most impactful night of the year for Indivisible Arts!
LOCATION:resin 618 Cypress Ave Hermosa Beach\, CA 90254
UID:e.2438.11595
SEQUENCE:3
DTSTAMP:20260422T225141Z
URL:https://business.hbchamber.net/events/details/state-of-the-art-annual-fundraiser-for-indivisible-arts-11595
END:VEVENT

END:VCALENDAR
