BEGIN:VCALENDAR
VERSION:2.0
PRODID:-//ChamberMaster//Event Calendar 2.0//EN
METHOD:PUBLISH
X-PUBLISHED-TTL:P3D
REFRESH-INTERVAL:P3D
CALSCALE:GREGORIAN
BEGIN:VEVENT
DTSTART:20250101T180000Z
DTEND:20250101T193000Z
X-MICROSOFT-CDO-ALLDAYEVENT:FALSE
SUMMARY:Start the Year With a Happy Mind
DESCRIPTION:The new year gives us an opportunity to set intentions for authentic change. In this special morning meditation event we will quiet our minds and allow heartfelt wisdom wishes to arise through the power of aspiration.\n\nSuitable for everyone!\n\nIncludes teaching and guided meditation. No previous experience is necessary. Everybody welcome!
X-ALT-DESC;FMTTYPE=text/html:<p>The new year gives us an opportunity to set intentions for authentic change. In this special morning meditation event we will quiet our minds and allow heartfelt wisdom wishes to arise through the power of aspiration.</p>\n\n<p>Suitable for everyone!</p>\n\n<p>Includes teaching and guided meditation. No previous experience is necessary. Everybody welcome!</p>\n
LOCATION:Mahamudra Kadampa Meditation Center 500 6th St Hermosa Beach\, CA 90254
UID:e.2438.11100
SEQUENCE:3
DTSTAMP:20260420T181421Z
URL:https://business.hbchamber.net/events/details/start-the-year-with-a-happy-mind-11100
END:VEVENT

END:VCALENDAR
