BEGIN:VCALENDAR
VERSION:2.0
PRODID:-//ChamberMaster//Event Calendar 2.0//EN
METHOD:PUBLISH
X-PUBLISHED-TTL:P3D
REFRESH-INTERVAL:P3D
CALSCALE:GREGORIAN
BEGIN:VEVENT
DTSTART;VALUE=DATE:20220317
DTEND;VALUE=DATE:20220318
TRANSP:TRANSPARENT
X-MICROSOFT-CDO-ALLDAYEVENT:TRUE
SUMMARY:St Patrick's Day Fun @ The Brews Hall
DESCRIPTION:Tennessee Barrel Aged Belgian Squad - Beer Release MARCH 17TH\n\nClose to three years in the making\, this beer was brewed in late 2019 and sat in Jack Daniels Whiskey barrels for over a year! Pours a deep brown with amber tints that beckon you to explore it. Oka aromas dominate the nose\, but hints of caramel and chocolate lie underneath! Each sip is packed full of deep caramel\, hints of chocolate\, and vanilla notes from the barrel. \n\n\n\nCelebrate St. Patrick's Day with our new beer release! Available at both Brews Hall locations.
X-ALT-DESC;FMTTYPE=text/html:Tennessee Barrel Aged Belgian Squad - Beer Release <strong>MARCH 17TH</strong><br />\nClose to three years in the making\, this beer was brewed in late 2019 and sat in Jack Daniels Whiskey barrels for over a year! Pours a deep brown with amber tints that beckon you to explore it. Oka aromas dominate the nose\, but hints of caramel and chocolate lie underneath! Each sip is packed full of deep caramel\, hints of chocolate\, and vanilla notes from the barrel.&nbsp\;<br />\n<br />\nCelebrate St. Patrick&#39\;s Day with our new beer release! Available at both Brews Hall locations.&nbsp\;
LOCATION:The Brews Hall Hermosa Beach 73 Pier Ave. Hermosa Beach\, 90254
UID:e.2438.5298
SEQUENCE:3
DTSTAMP:20260421T111701Z
URL:https://business.hbchamber.net/events/details/st-patrick-s-day-fun-the-brews-hall-5298
END:VEVENT

END:VCALENDAR
