BEGIN:VCALENDAR
VERSION:2.0
PRODID:-//ChamberMaster//Event Calendar 2.0//EN
METHOD:PUBLISH
X-PUBLISHED-TTL:P3D
REFRESH-INTERVAL:P3D
CALSCALE:GREGORIAN
BEGIN:VEVENT
DTSTART;VALUE=DATE:20220310
DTEND;VALUE=DATE:20220311
TRANSP:TRANSPARENT
X-MICROSOFT-CDO-ALLDAYEVENT:TRUE
SUMMARY:St. Patrick's Day Comedy Night @ Beach and Beverly
DESCRIPTION:IT'S BACK      Join us in the parking lot for a fun filled evening of stand-up comedy hosted by the great @dannocarter :: don't forget to bring your own chair and refreshments   and wear green   :: 3/16 at 7pm :: come early to check out all the new goodies at the shop!!
X-ALT-DESC;FMTTYPE=text/html:<span style="color: rgb(38\, 38\, 38)\; font-family: -apple-system\, &quot\;system-ui&quot\;\, &quot\;Segoe UI&quot\;\, Roboto\, Helvetica\, Arial\, sans-serif\; font-size: 14px\;">IT&rsquo\;S BACK &#127808\;&#127867\;&#127752\;&#10024\; Join us in the parking lot for a fun filled evening of stand-up comedy hosted by the great&nbsp\;</span><a class="notranslate" href="https://www.instagram.com/dannocarter/" style="margin: 0px\; padding: 0px\; border: 0px\; font-variant-numeric: inherit\; font-variant-east-asian: inherit\; font-stretch: inherit\; font-size: 14px\; line-height: inherit\; font-family: -apple-system\, &quot\;system-ui&quot\;\, &quot\;Segoe UI&quot\;\, Roboto\, Helvetica\, Arial\, sans-serif\; vertical-align: baseline\; color: rgba(var(--fe0\,0\,55\,107)\,1)\; text-decoration-line: none\;" tabindex="0">@dannocarter</a><span style="color: rgb(38\, 38\, 38)\; font-family: -apple-system\, &quot\;system-ui&quot\;\, &quot\;Segoe UI&quot\;\, Roboto\, Helvetica\, Arial\, sans-serif\; font-size: 14px\;">&nbsp\;:: don&rsquo\;t forget to bring your own chair and refreshments &hellip\; and wear green &#128154\; :: 3/16 at 7pm :: come early to check out all the new goodies at the shop!!</span>
LOCATION:Beach and Beverly 350 N. Sepulveda Blvd. Manhattan Beach
UID:e.2438.5311
SEQUENCE:3
DTSTAMP:20260421T105351Z
URL:https://business.hbchamber.net/events/details/st-patrick-s-day-comedy-night-beach-and-beverly-5311
END:VEVENT

END:VCALENDAR
