BEGIN:VCALENDAR
VERSION:2.0
PRODID:-//ChamberMaster//Event Calendar 2.0//EN
METHOD:PUBLISH
X-PUBLISHED-TTL:P3D
REFRESH-INTERVAL:P3D
CALSCALE:GREGORIAN
BEGIN:VEVENT
DTSTART;VALUE=DATE:20220423
DTEND;VALUE=DATE:20220424
TRANSP:TRANSPARENT
X-MICROSOFT-CDO-ALLDAYEVENT:TRUE
SUMMARY:Spyder Surf Fest
DESCRIPTION:The Spyder Surf Fest will follow the Surfers Walk of Fame Induction Ceremony on Saturday\, April 23 and will begin at 11:00am on Pier Plaza. The event will feature live music\, raffles and giveaways.
X-ALT-DESC;FMTTYPE=text/html:<p style="box-sizing: border-box\; margin: 0px 0px 1em\; color: rgb(21\, 27\, 33)\; font-family: Cabin\, sans-serif\; font-size: 18px\; background-color: rgb(247\, 246\, 244)\; text-align: center\;">The Spyder Surf Fest will follow the Surfers Walk of Fame Induction Ceremony on Saturday\, April 23 and will begin at 11:00am on Pier Plaza. The event will feature live music\, raffles and giveaways.&nbsp\;</p>\n
LOCATION:Pier Plaza 1 Pier Ave. Hermosa Beach\, 90254
UID:e.2438.5388
SEQUENCE:3
DTSTAMP:20260421T091251Z
URL:https://business.hbchamber.net/events/details/spyder-surf-fest-5388
END:VEVENT

END:VCALENDAR
