BEGIN:VCALENDAR
VERSION:2.0
PRODID:-//ChamberMaster//Event Calendar 2.0//EN
METHOD:PUBLISH
X-PUBLISHED-TTL:P3D
REFRESH-INTERVAL:P3D
CALSCALE:GREGORIAN
BEGIN:VEVENT
DTSTART;VALUE=DATE:20220429
DTEND;VALUE=DATE:20220502
TRANSP:TRANSPARENT
X-MICROSOFT-CDO-ALLDAYEVENT:TRUE
SUMMARY:Spring Sidewalk Sale
DESCRIPTION:The Hermosa Beach Summer Sidewalk Celebration is back and better than ever! Join the family friendly event on Saturday\, April 30th   Sunday\, May 1st from 11:00am   6:00pm daily. Enjoy Shopping\, Live Music\, Pop-up Market\, Activities\, Workshops and more! For more information\, please visit: https://www.hbchamber.net/
X-ALT-DESC;FMTTYPE=text/html:<span style="color: rgb(21\, 27\, 33)\; font-family: Cabin\, sans-serif\; font-size: 18px\; background-color: rgb(247\, 246\, 244)\;">The Hermosa Beach Summer Sidewalk Celebration is back and better than ever! Join the family friendly event on Saturday\, April 30th &ndash\; Sunday\, May 1st from 11:00am &ndash\; 6:00pm daily. Enjoy Shopping\, Live Music\, Pop-up Market\, Activities\, Workshops and more!&nbsp\;For more information\, please visit:&nbsp\;</span><a href="https://www.hermosabeach.gov/?splash=https%3a%2f%2fwww.hbchamber.net%2fsummer2021%2f&amp\;____isexternal=true" style="box-sizing: border-box\; background-color: rgb(247\, 246\, 244)\; color: rgb(0\, 102\, 119)\; font-family: Cabin\, sans-serif\; font-size: 18px\;" target="_blank">https://www.hbchamber.net/</a>
LOCATION:Pier Ave. Hermosa Beach
UID:e.2438.5088
SEQUENCE:3
DTSTAMP:20260421T092713Z
URL:https://business.hbchamber.net/events/details/spring-sidewalk-sale-5088
END:VEVENT

END:VCALENDAR
