BEGIN:VCALENDAR
VERSION:2.0
PRODID:-//ChamberMaster//Event Calendar 2.0//EN
METHOD:PUBLISH
X-PUBLISHED-TTL:P3D
REFRESH-INTERVAL:P3D
CALSCALE:GREGORIAN
BEGIN:VEVENT
DTSTART;VALUE=DATE:20250405
DTEND;VALUE=DATE:20250407
TRANSP:TRANSPARENT
X-MICROSOFT-CDO-ALLDAYEVENT:TRUE
SUMMARY:SPRING SIDEWALK SALE
DESCRIPTION:The Spring Sidewalk Sale returns again for everyone's enjoyment. This weekend includes pop up vendors along Pier Ave and Pier Plaza\, as well as sales and deals offered by our local businesses.\n\n\n\nBring the family down to walk\, shop\, and enjoy! Our businesses appreciate your love and support. Scroll down to see details and be sure to keep coming back as we continue to update with the latest sales and deals you can expect to enjoy.\n\n\n\nAnd on Sunday\, April 6\, 12-4pm\, in addition to the Sidewalk Sale\, enjoy delicious lemonade from our young entrepreneurs for Lemonade Day Hermosa Beach! For more information\, go to hbchamber.net/lemonade.
X-ALT-DESC;FMTTYPE=text/html:The Spring Sidewalk Sale returns again for everyone&#39\;s enjoyment. This weekend includes pop up vendors along Pier Ave and Pier Plaza\, as well as sales and deals offered by our local businesses.<br />\n<br />\nBring the family down to walk\, shop\, and enjoy! Our businesses appreciate your love and support. Scroll down to see details and be sure to keep coming back as we continue to update with the latest sales and deals you can expect to enjoy.<br />\n<br />\nAnd on Sunday\, April 6\, 12-4pm\, in addition to the Sidewalk Sale\, enjoy delicious lemonade from our young entrepreneurs for Lemonade Day Hermosa Beach! For more information\, go to <a href="http://hbchamber.net/lemonade">hbchamber.net/lemonade</a>.
LOCATION:Downtown Hermosa & Pier Ave
UID:e.2438.11384
SEQUENCE:3
DTSTAMP:20260422T211325Z
URL:https://business.hbchamber.net/events/details/spring-sidewalk-sale-04-05-2025-11384
END:VEVENT

END:VCALENDAR
