BEGIN:VCALENDAR
VERSION:2.0
PRODID:-//ChamberMaster//Event Calendar 2.0//EN
METHOD:PUBLISH
X-PUBLISHED-TTL:P3D
REFRESH-INTERVAL:P3D
CALSCALE:GREGORIAN
BEGIN:VEVENT
DTSTART:20240316T230000Z
DTEND:20240317T010000Z
X-MICROSOFT-CDO-ALLDAYEVENT:FALSE
SUMMARY:SPRING DREAMING PAINT & SIP
DESCRIPTION:You're cordially invited to join us for a fun and dreamy event! This creative activity " Spring Dreaming Paint & Sip" is designed for adults. You don't need any prior painting experience to join us as you will be given step-by-step instructions. All painting materials will be provided\, and each person will receive two drinks. There will be an alcoholic and a non-alcoholic option available\, but you can also bring your drink if you prefer. Since we will be working with acrylic paint\, we recommend wearing clothes that you don't mind getting some paint on or bringing an apron. The event will last two hours and promises to be a lot of fun!
X-ALT-DESC;FMTTYPE=text/html:You&#39\;re cordially invited to join us for a fun and dreamy event! This creative activity &quot\; Spring Dreaming Paint &amp\; Sip&quot\; is designed for adults. You don&#39\;t need any prior painting experience to join us as you will be given step-by-step instructions. All painting materials will be provided\, and each person will receive two drinks. There will be an alcoholic and a non-alcoholic option available\, but you can also bring your drink if you prefer. Since we will be working with acrylic paint\, we recommend wearing clothes that you don&#39\;t mind getting some paint on or bringing an apron. The event will last two hours and promises to be a lot of fun!
LOCATION:SpineSync 2300 Artesia Blvd\, Ste B Redondo Beach\, CA 90278
UID:e.2438.9392
SEQUENCE:3
DTSTAMP:20260419T145359Z
URL:https://business.hbchamber.net/events/details/spring-dreaming-paint-sip-9392
END:VEVENT

END:VCALENDAR
