BEGIN:VCALENDAR
VERSION:2.0
PRODID:-//ChamberMaster//Event Calendar 2.0//EN
METHOD:PUBLISH
X-PUBLISHED-TTL:P3D
REFRESH-INTERVAL:P3D
CALSCALE:GREGORIAN
BEGIN:VEVENT
DTSTART:20240315T010000Z
DTEND:20240315T023000Z
X-MICROSOFT-CDO-ALLDAYEVENT:FALSE
SUMMARY:Spring Cooking Class with Chef Amber
DESCRIPTION:Join Chef Amber for an exciting Spring cooking class at The Source Cafe!\n\nOn the menu:\n\nSalad: Yellow beet\, cilantro cashew cream\, almonds\, arugula\, dill\, saut ed fennel Soccas: Savory garbanzo pancake\, pesto\, cabbage slaw\n\nRoasted Salmon: Olives\, basil\, tomato\, oregano\, baby potatoes\n\nDessert: Orange olive oil cake with coconut cream\n\n\n\nYour ticket includes all four courses\, recipes\, and valuable tips to nourish and energize your body.\n\n\n\nBring your favorite beverage or choose from our selection of non-alcoholic drinks available for purchase. Seats are limited\, so secure your spot now! Chef Amber is eager to share these delicious creations with you.\n\n\n\nDon't miss out on this fun event!
X-ALT-DESC;FMTTYPE=text/html:Join Chef Amber for an exciting Spring cooking class at The Source Cafe!<br />\nOn the menu:<br />\nSalad: Yellow beet\, cilantro cashew cream\, almonds\, arugula\, dill\, saut&eacute\;ed fennel Soccas: Savory garbanzo pancake\, pesto\, cabbage slaw<br />\nRoasted Salmon: Olives\, basil\, tomato\, oregano\, baby potatoes<br />\nDessert: Orange olive oil cake with coconut cream<br />\n<br />\nYour ticket includes all four courses\, recipes\, and valuable tips to nourish and energize your body.<br />\n<br />\nBring your favorite beverage or choose from our selection of non-alcoholic drinks available for purchase. Seats are limited\, so secure your spot now! Chef Amber is eager to share these delicious creations with you.<br />\n<br />\nDon&#39\;t miss out on this fun event!
LOCATION:The Source Cafe
UID:e.2438.9389
SEQUENCE:3
DTSTAMP:20260419T145501Z
URL:https://business.hbchamber.net/events/details/spring-cooking-class-with-chef-amber-9389
END:VEVENT

END:VCALENDAR
