BEGIN:VCALENDAR
VERSION:2.0
PRODID:-//ChamberMaster//Event Calendar 2.0//EN
METHOD:PUBLISH
X-PUBLISHED-TTL:P3D
REFRESH-INTERVAL:P3D
CALSCALE:GREGORIAN
BEGIN:VEVENT
DTSTART:20240406T150000Z
DTEND:20240406T190000Z
X-MICROSOFT-CDO-ALLDAYEVENT:FALSE
SUMMARY:Spring 2024 Paper Shredding and Compost Giveaway Event
DESCRIPTION:Saturday April 6\, from 8am to noon\, the City and Athens Services will host paper shredding and compost giveaway event. Free to residents\, the event will take place at the Community Center (710 Pier Avenue - enter driveway off Pier Avenue). Please bring your own containers and shovels for the compost and paper shredding will be done on site. Please contact Doug Krauss with any questions: 310-750-3603
X-ALT-DESC;FMTTYPE=text/html:Saturday April 6\, from 8am to noon\, the City and Athens Services will host paper shredding and compost giveaway event. Free to residents\, the event will take place at the Community Center (710 Pier Avenue - enter driveway off Pier Avenue). Please bring your own containers and shovels for the compost and paper shredding will be done on site. Please contact Doug Krauss with any questions: 310-750-3603&nbsp\;
LOCATION:Community Center 710 Pier Avenue Hermosa Beach\, California 90254
UID:e.2438.9300
SEQUENCE:3
DTSTAMP:20260421T135629Z
URL:https://business.hbchamber.net/events/details/spring-2024-paper-shredding-and-compost-giveaway-event-9300
END:VEVENT

END:VCALENDAR
