BEGIN:VCALENDAR
VERSION:2.0
PRODID:-//ChamberMaster//Event Calendar 2.0//EN
METHOD:PUBLISH
X-PUBLISHED-TTL:P3D
REFRESH-INTERVAL:P3D
CALSCALE:GREGORIAN
BEGIN:VEVENT
DTSTART:20220323T000000Z
DTEND:20220323T020000Z
X-MICROSOFT-CDO-ALLDAYEVENT:FALSE
SUMMARY:Speed Networking Event at Vista
DESCRIPTION:You've been asking for it and we delivered. Please join us for our Speed Networking Event to meet fellow business owners\, drink\, eat\, and enjoy! Located on Vista's beautiful beachside patio\, you're guaranteed to have a good time. But hurry tickets will go fast! Very limited quantities.\n\n\n\n$40 per member\, $60 for non-members\n\nTicket includes a drink and passed appetizers
X-ALT-DESC;FMTTYPE=text/html:<span style="color: rgb(29\, 28\, 29)\; font-family: Slack-Lato\, Slack-Fractions\, appleLogo\, sans-serif\; font-size: 15px\; font-variant-ligatures: common-ligatures\; orphans: 2\; widows: 2\; text-decoration-thickness: initial\;">You&rsquo\;ve been asking for it and we delivered. Please join us for our Speed Networking Event to meet fellow business owners\, drink\, eat\, and enjoy! Located on Vista&rsquo\;s beautiful beachside patio\, you&rsquo\;re guaranteed to have a good time. But hurry&hellip\;tickets will go fast! Very limited quantities.</span><br />\n<br style="box-sizing: inherit\; color: rgb(29\, 28\, 29)\; font-family: Slack-Lato\, Slack-Fractions\, appleLogo\, sans-serif\; font-size: 15px\; font-variant-ligatures: common-ligatures\; orphans: 2\; widows: 2\; text-decoration-thickness: initial\;" />\n<span style="color: rgb(29\, 28\, 29)\; font-family: Slack-Lato\, Slack-Fractions\, appleLogo\, sans-serif\; font-size: 15px\; font-variant-ligatures: common-ligatures\; orphans: 2\; widows: 2\; text-decoration-thickness: initial\;">$40 per member\, $60 for non-members</span><br style="box-sizing: inherit\; color: rgb(29\, 28\, 29)\; font-family: Slack-Lato\, Slack-Fractions\, appleLogo\, sans-serif\; font-size: 15px\; font-variant-ligatures: common-ligatures\; orphans: 2\; widows: 2\; text-decoration-thickness: initial\;" />\n<span style="color: rgb(29\, 28\, 29)\; font-family: Slack-Lato\, Slack-Fractions\, appleLogo\, sans-serif\; font-size: 15px\; font-variant-ligatures: common-ligatures\; orphans: 2\; widows: 2\; text-decoration-thickness: initial\;">Ticket includes a drink and passed appetizers</span>
LOCATION:Vista 11 Pier Avenue Hermosa Beach\, CA 90254
UID:e.2438.5081
SEQUENCE:3
DTSTAMP:20260421T105333Z
URL:https://business.hbchamber.net/events/details/speed-networking-event-at-vista-5081
END:VEVENT

END:VCALENDAR
