BEGIN:VCALENDAR
VERSION:2.0
PRODID:-//ChamberMaster//Event Calendar 2.0//EN
METHOD:PUBLISH
X-PUBLISHED-TTL:P3D
REFRESH-INTERVAL:P3D
CALSCALE:GREGORIAN
BEGIN:VEVENT
DTSTART:20240210T170000Z
DTEND:20240210T190000Z
X-MICROSOFT-CDO-ALLDAYEVENT:FALSE
SUMMARY:Spartan Saturday
DESCRIPTION:February 10th\n\n\n\n9am @ HB Lifeguard Tower 8\n\nBring an Open Mind & a towel to sit on\n\nConnect with epic South Bay Men\n\nElevate your Growth in Life & Business\n\nRecharge your Mind & Body\n\n\n\nMAKE SATURDAY MORNING AN INSPIRING TIME FOR YOU!\n\n\n\nWhy is this important for our community? As men\, we all struggle to find and maintain balance and our identity in business\, wellness\, relationships\n\nand life. But we don't have to navigate this alone. When a community of men stand together we can powerfully support each other in all areas of life.\n\n\n\nHang around for a post session swim and coffee. Join the movement!
X-ALT-DESC;FMTTYPE=text/html:February 10th<br />\n<br />\n9am @ HB Lifeguard Tower 8<br />\nBring an Open Mind &amp\; a towel to sit on<br />\nConnect with epic South Bay Men<br />\nElevate your Growth in Life &amp\; Business<br />\nRecharge your Mind &amp\; Body<br />\n<br />\nMAKE SATURDAY MORNING AN INSPIRING TIME FOR YOU!<br />\n<br />\nWhy is this important for our community? As men\, we all struggle to find and maintain balance and our identity in business\, wellness\, relationships<br />\nand life. But we don&rsquo\;t have to navigate this alone. When a community of men stand together we can powerfully support each other in all areas of life.<br />\n<br />\nHang around for a post session swim and coffee. Join the movement!
LOCATION:HB Lifeguard Tower 8
UID:e.2438.9322
SEQUENCE:3
DTSTAMP:20260419T131406Z
URL:https://business.hbchamber.net/events/details/spartan-saturday-9322
END:VEVENT

END:VCALENDAR
