BEGIN:VCALENDAR
VERSION:2.0
PRODID:-//ChamberMaster//Event Calendar 2.0//EN
METHOD:PUBLISH
X-PUBLISHED-TTL:P3D
REFRESH-INTERVAL:P3D
CALSCALE:GREGORIAN
BEGIN:VEVENT
DTSTART:20250621T130000Z
DTEND:20250621T190000Z
X-MICROSOFT-CDO-ALLDAYEVENT:FALSE
SUMMARY:South Bay Paddle
DESCRIPTION:The South Bay Boardriders Club will hold the South Bay Paddle south of the Pier. The event serves as a qualification race for the Catalina Classic Paddle Board Race.\n\n\n\nFor more information\, visit www.southbayboardriders.com.
X-ALT-DESC;FMTTYPE=text/html:The South Bay Boardriders Club will hold the South Bay Paddle south of the Pier. The event serves as a qualification race for the Catalina Classic Paddle Board Race.<br />\n<br />\nFor more information\, visit <a href="http://www.southbayboardriders.com">www.southbayboardriders.com</a>.
LOCATION:
UID:e.2438.12430
SEQUENCE:3
DTSTAMP:20260423T021200Z
URL:https://business.hbchamber.net/events/details/south-bay-paddle-12430
END:VEVENT

END:VCALENDAR
