BEGIN:VCALENDAR
VERSION:2.0
PRODID:-//ChamberMaster//Event Calendar 2.0//EN
METHOD:PUBLISH
X-PUBLISHED-TTL:P3D
REFRESH-INTERVAL:P3D
CALSCALE:GREGORIAN
BEGIN:VEVENT
DTSTART:20250531T163000Z
DTEND:20250531T210000Z
X-MICROSOFT-CDO-ALLDAYEVENT:FALSE
SUMMARY:South Bay Leadership & Wellness Conference
DESCRIPTION:Join young leaders from more than 30 organizations across the South Bay to connect\, collaborate and uplift our voices together at our annual South Bay Leadership & Wellness Conference. This event will include conversations about advocacy\, mental health\, wellness and important topics facing our generation today.  \n\n\n\nFor young people ages 12-25. Free food and prizes are included! Plus\, get community service hours.
X-ALT-DESC;FMTTYPE=text/html:Join young leaders from more than 30 organizations across the South Bay to connect\, collaborate and uplift our voices together at our annual South Bay Leadership &amp\; Wellness Conference. This event will include conversations about advocacy\, mental health\, wellness and important topics facing our generation today.&nbsp\;&nbsp\;<br />\n<br />\nFor young people ages 12-25. Free food and prizes are included! Plus\, get community service hours.&nbsp\;
LOCATION:allcove Beach Cities\, 4th floor 514 N. Prospect Ave Redondo Beach\, CA 90277
UID:e.2438.11551
SEQUENCE:3
DTSTAMP:20260422T224700Z
URL:https://business.hbchamber.net/events/details/south-bay-leadership-wellness-conference-11551
END:VEVENT

END:VCALENDAR
