BEGIN:VCALENDAR
VERSION:2.0
PRODID:-//ChamberMaster//Event Calendar 2.0//EN
METHOD:PUBLISH
X-PUBLISHED-TTL:P3D
REFRESH-INTERVAL:P3D
CALSCALE:GREGORIAN
BEGIN:VEVENT
DTSTART:20250207T013000Z
DTEND:20250207T033000Z
X-MICROSOFT-CDO-ALLDAYEVENT:FALSE
SUMMARY:South Bay Golf Club Grand Opening & Ribbon Cutting Ceremony
DESCRIPTION:Join us for the Grand Opening & Ribbon Cutting Ceremony of South Bay Golf Club! South Bay Golf Club is a friendly and accessible alternative to the busy driving range or course conveniently located in the heart of Hermosa Beach.
X-ALT-DESC;FMTTYPE=text/html:Join us for the Grand Opening &amp\; Ribbon Cutting Ceremony of South Bay Golf Club!&nbsp\;South Bay Golf Club is a friendly and accessible alternative to the busy driving range or course conveniently located in the heart of Hermosa Beach.
LOCATION:South Bay Golf Club 1601 Pacific Coast Hwy\, STE 180 Hermosa Beach\, CA 90254
UID:e.2438.11405
SEQUENCE:3
DTSTAMP:20260420T125730Z
URL:https://business.hbchamber.net/events/details/south-bay-golf-club-grand-opening-ribbon-cutting-ceremony-11405
END:VEVENT

END:VCALENDAR
