BEGIN:VCALENDAR
VERSION:2.0
PRODID:-//ChamberMaster//Event Calendar 2.0//EN
METHOD:PUBLISH
X-PUBLISHED-TTL:P3D
REFRESH-INTERVAL:P3D
CALSCALE:GREGORIAN
BEGIN:VEVENT
DTSTART:20220324T160000Z
DTEND:20220324T210000Z
X-MICROSOFT-CDO-ALLDAYEVENT:FALSE
SUMMARY:South Bay Cities: The 22nd General Assembly
DESCRIPTION:Speaker Spotlight:\n\n						 Panel: Building a Community of Innovation\n						\n					\n				\n			\n			\n		\n	\n\n\n\n	\n		\n			\n			\n				\n					\n						\n						 \n\n						\n						Hear discussion on what entrepreneurs and investors are anticipating and planning by way of investments of time\, energy and money and how\n\n						cities can benefit.\n						\n						\n					\n				\n			\n			\n		\n	\n\n\n\n\n\nCheck in begins at 8:30am\; Continental breakfast and lunch will be served!
X-ALT-DESC;FMTTYPE=text/html:<table border="0" cellpadding="0" cellspacing="0" style="color: rgb(34\, 34\, 34)\; font-family: Roboto\, RobotoDraft\, Helvetica\, Arial\, sans-serif\; font-size: small\; min-width: 100%\;" width="100%">\n	<tbody>\n		<tr>\n			<td align="left" bgcolor="0089CC" style="margin: 0px\; background-color: rgb(0\, 137\, 204)\;" valign="top" width="100%">\n			<table border="0" cellpadding="0" cellspacing="0" style="min-width: 100%\;" width="100%">\n				<tbody>\n					<tr>\n						<td align="left" style="font-family: &quot\;Century Gothic&quot\;\, Calibri\, Helvetica\, Arial\, sans-serif\; margin: 0px\; font-size: 24px\; color: rgb(255\, 255\, 255)\; text-align: center\; display: block\; overflow-wrap: break-word\; line-height: 1.2\; font-weight: bold\; padding: 10px 20px\;" valign="top">\n						<div><span style="font-size: 36px\;">Speaker Spotlight:</span></div>\n\n						<div><span style="font-size: 36px\;">&#65279\;Panel: Building a Community of Innovation</span></div>\n						</td>\n					</tr>\n				</tbody>\n			</table>\n			</td>\n		</tr>\n	</tbody>\n</table>\n\n<table border="0" cellpadding="0" cellspacing="0" style="color: rgb(34\, 34\, 34)\; font-family: Roboto\, RobotoDraft\, Helvetica\, Arial\, sans-serif\; font-size: small\; min-width: 100%\;" width="100%">\n	<tbody>\n		<tr>\n			<td align="left" bgcolor="0089CC" style="margin: 0px\; background-color: rgb(0\, 137\, 204)\;" valign="top" width="100%">\n			<table border="0" cellpadding="0" cellspacing="0" style="min-width: 100%\;" width="100%">\n				<tbody>\n					<tr>\n						<td align="left" style="font-family: &quot\;Century Gothic&quot\;\, Calibri\, Helvetica\, Arial\, sans-serif\; margin: 0px\; font-size: 24px\; color: rgb(255\, 255\, 255)\; text-align: center\; display: block\; overflow-wrap: break-word\; line-height: 1.2\; font-weight: bold\; padding: 10px 20px\;" valign="top">\n						<div>&nbsp\;</div>\n\n						<div>\n						<div>Hear discussion on what entrepreneurs and investors are anticipating and planning by way of investments of time\, energy and money and how</div>\n\n						<div>cities can benefit.</div>\n						</div>\n						</td>\n					</tr>\n				</tbody>\n			</table>\n			</td>\n		</tr>\n	</tbody>\n</table>\n<br />\n<br />\nCheck in begins at 8:30am\; Continental breakfast and lunch will be served!
LOCATION:Juanita Millender-McDonald Community Center 901 E. Carson St.\, Carson\, CA 90745
UID:e.2438.5310
SEQUENCE:3
DTSTAMP:20260421T111125Z
URL:https://business.hbchamber.net/events/details/south-bay-cities-the-22nd-general-assembly-5310
END:VEVENT

END:VCALENDAR
