BEGIN:VCALENDAR
VERSION:2.0
PRODID:-//ChamberMaster//Event Calendar 2.0//EN
METHOD:PUBLISH
X-PUBLISHED-TTL:P3D
REFRESH-INTERVAL:P3D
CALSCALE:GREGORIAN
BEGIN:VEVENT
DTSTART:20250405T170000Z
DTEND:20250405T200000Z
X-MICROSOFT-CDO-ALLDAYEVENT:FALSE
SUMMARY:South Bay Camp Fair
DESCRIPTION:South Bay Camp Fair   3 Free Family Events!\n\nThese events are designed to help families connect with local South Bay camps and get a head start on summer planning all while enjoying a fun day out with the kids. \n\n\n\n  FREE TICKETS \n\n\n\nWe'll have:\n\n  Live music by South Bay Music Connection\n\n  A photo booth\n\n  Arts & crafts\n\n  Free gifts for the first 100 families at check-in\n\n\n\nEvent Dates & Locations:\n\n  Saturday\, March 29 | 12 PM   3 PM   The Point\, El Segundo\n\n  Saturday\, April 5 | 10 AM   1 PM   Promenade | PV\, Rolling Hills Estates\n\n  Sunday\, April 6 | 12 PM   3 PM   South Bay Galleria\, Redondo Beach
X-ALT-DESC;FMTTYPE=text/html:<strong>&#127881\; South Bay Camp Fair &ndash\; 3 Free Family Events!</strong><br />\nThese events are designed to help families connect with local South Bay camps and get a head start on summer planning&mdash\;all while enjoying a fun day out with the kids.&nbsp\;<br />\n<br />\n<strong>&#128073\; <a href="https://www.eventbrite.com/o/local-anchor-16939950365">FREE TICKETS</a>&nbsp\;</strong><br />\n<br />\nWe&rsquo\;ll have:<br />\n&#127926\; Live music by South Bay Music Connection<br />\n&#128248\; A photo booth<br />\n&#127912\; Arts &amp\; crafts<br />\n&#127873\; Free gifts for the first 100 families at check-in<br />\n<br />\n<strong>Event Dates &amp\; Locations:</strong><br />\n&#128205\; <strong>Saturday\, March 29 | 12 PM &ndash\; 3 PM</strong> &ndash\; The Point\, El Segundo<br />\n&#128205\; <strong>Saturday\, April 5 | 10 AM &ndash\; 1 PM</strong> &ndash\; Promenade | PV\, Rolling Hills Estates<br />\n&#128205\; <strong>Sunday\, April 6 | 12 PM &ndash\; 3 PM</strong> &ndash\; South Bay Galleria\, Redondo Beach
LOCATION:The Point 850 S Pacific Coast Hwy El Segundo\, CA Promenade | PV 550 Deep Valley Dr Rolling Hills Estates\, CA South Bay Galleria 1815 Hawthorne Blvd Redondo Beach\, CA
UID:e.2438.11468
SEQUENCE:3
DTSTAMP:20260422T210049Z
URL:https://business.hbchamber.net/events/details/south-bay-camp-fair-11468
END:VEVENT

END:VCALENDAR
