BEGIN:VCALENDAR
VERSION:2.0
PRODID:-//ChamberMaster//Event Calendar 2.0//EN
METHOD:PUBLISH
X-PUBLISHED-TTL:P3D
REFRESH-INTERVAL:P3D
CALSCALE:GREGORIAN
BEGIN:VEVENT
DTSTART:20250116T020000Z
DTEND:20250116T030000Z
X-MICROSOFT-CDO-ALLDAYEVENT:FALSE
SUMMARY:SoulScribe Meditation (In-Person)
DESCRIPTION:A profound practice combining channeling\, meditation\, and journaling to align with your inner self and purpose.
X-ALT-DESC;FMTTYPE=text/html:A profound practice combining channeling\, meditation\, and journaling to align with your inner self and purpose.<br />\n
LOCATION:Amaloa Healing Arts 200 Pier Ave\, STE 206 Hermosa Beach\, CA 90254
UID:e.2438.11111
SEQUENCE:3
DTSTAMP:20260422T143011Z
URL:https://business.hbchamber.net/events/details/soulscribe-meditation-in-person-11111
END:VEVENT

END:VCALENDAR
