BEGIN:VCALENDAR
VERSION:2.0
PRODID:-//ChamberMaster//Event Calendar 2.0//EN
METHOD:PUBLISH
X-PUBLISHED-TTL:P3D
REFRESH-INTERVAL:P3D
CALSCALE:GREGORIAN
BEGIN:VEVENT
DTSTART:20220618T040000Z
DTEND:20220618T065500Z
X-MICROSOFT-CDO-ALLDAYEVENT:FALSE
SUMMARY:Soul Shot @ Hermosa Saloon
DESCRIPTION:R&B and Soul band featuring Charis Rey
X-ALT-DESC;FMTTYPE=text/html:R&amp\;B and Soul band featuring Charis Rey
LOCATION:Hermosa Saloon
UID:e.2438.5605
SEQUENCE:3
DTSTAMP:20260421T073546Z
URL:https://business.hbchamber.net/events/details/soul-shot-hermosa-saloon-5605
END:VEVENT

END:VCALENDAR
