BEGIN:VCALENDAR
VERSION:2.0
PRODID:-//ChamberMaster//Event Calendar 2.0//EN
METHOD:PUBLISH
X-PUBLISHED-TTL:P3D
REFRESH-INTERVAL:P3D
CALSCALE:GREGORIAN
BEGIN:VEVENT
DTSTART:20250427T193000Z
DTEND:20250427T230000Z
X-MICROSOFT-CDO-ALLDAYEVENT:FALSE
SUMMARY:Soroptimist International Manhattan Beach Women's Film Festival
DESCRIPTION:Join us for an unforgettable afternoon of cinematic storytelling at the Soroptimist International of Manhattan Beach Women's Film Festival. Immerse yourself in a curated selection of powerful short films by\, for\, and about women\, sourced from the esteemed Women's Voices Now collection. This year\, we're thrilled to feature Emmy-nominated director Rebekah Grace De Guzman of Girls' Voices Now as our guest speaker. Gain exclusive insights into her creative journey and the impact of her work firsthand. Experience the diverse voices of female filmmakers from around the globe as they tackle critical issues and ignite change. These thought-provoking films offer unique perspectives and compelling narratives\, highlighting global challenges and celebrating the strength and resilience of women. Don't miss this opportunity to be part of a meaningful cinematic experience. Secure your tickets today and join us in celebrating the power of women's voices.
X-ALT-DESC;FMTTYPE=text/html:Join us for an unforgettable afternoon of cinematic storytelling at the Soroptimist International of Manhattan Beach Women&#39\;s Film Festival. Immerse yourself in a curated selection of powerful short films by\, for\, and about women\, sourced from the esteemed Women&#39\;s Voices Now collection. This year\, we&#39\;re thrilled to feature Emmy-nominated director Rebekah Grace De Guzman of Girls&#39\; Voices Now as our guest speaker. Gain exclusive insights into her creative journey and the impact of her work firsthand. Experience the diverse voices of female filmmakers from around the globe as they tackle critical issues and ignite change. These thought-provoking films offer unique perspectives and compelling narratives\, highlighting global challenges and celebrating the strength and resilience of women. Don&#39\;t miss this opportunity to be part of a meaningful cinematic experience. Secure your tickets today and join us in celebrating the power of women&#39\;s voices.
LOCATION:Redondo Beach Performing Arts Center 1935 Manhattan Beach Blvd. Redondo Beach\, CA
UID:e.2438.11522
SEQUENCE:3
DTSTAMP:20260422T212149Z
URL:https://business.hbchamber.net/events/details/soroptimist-international-manhattan-beach-women-s-film-festival-11522
END:VEVENT

END:VCALENDAR
