BEGIN:VCALENDAR
VERSION:2.0
PRODID:-//ChamberMaster//Event Calendar 2.0//EN
METHOD:PUBLISH
X-PUBLISHED-TTL:P3D
REFRESH-INTERVAL:P3D
CALSCALE:GREGORIAN
BEGIN:VEVENT
DTSTART:20240328T030000Z
DTEND:20240328T053000Z
X-MICROSOFT-CDO-ALLDAYEVENT:FALSE
SUMMARY:Songwriter Showcase at Saint Rocke
DESCRIPTION:Music for your souls and earholes! This curated event features 10 local songwriters and bands performing 2 originals songs each. This month's host is Tom Freund.
X-ALT-DESC;FMTTYPE=text/html:Music for your souls and earholes! This curated event features 10 local songwriters and bands performing 2 originals songs each. This month&#39\;s host is Tom Freund.
LOCATION:Saint Rocke
UID:e.2438.9426
SEQUENCE:3
DTSTAMP:20260419T150202Z
URL:https://business.hbchamber.net/events/details/songwriter-showcase-at-saint-rocke-03-27-2024-9426
END:VEVENT

END:VCALENDAR
