BEGIN:VCALENDAR
VERSION:2.0
PRODID:-//ChamberMaster//Event Calendar 2.0//EN
METHOD:PUBLISH
X-PUBLISHED-TTL:P3D
REFRESH-INTERVAL:P3D
CALSCALE:GREGORIAN
BEGIN:VEVENT
DTSTART:20250426T170000Z
DTEND:20250427T010000Z
X-MICROSOFT-CDO-ALLDAYEVENT:FALSE
SUMMARY:Sol Baby's 18th Anniversary
DESCRIPTION:Sol Baby is celebrating 18 incredible years in the heart of Hermosa Beach with an exciting new initiative that gives back to both our customers and the planet!\n\n\n\nWe're thrilled to introduce re-Sol'd\, recycled and upcycled collection\, designed to keep beloved styles in circulation while promoting sustainability. As part of this program\, we're launching a buy-back initiative for our ever-popular Rowdy Sprout rock tees and onesies. Customers can bring in their gently used pieces\, and after a condition review\, receive $5-$10 in store credit toward a future purchase.\n\n\n\nIn addition\, we're unveiling Sol Baby reSOLd Upcycled oriGINAals a curated collection of perfectly pre-loved\, hand-selected children's clothing\, each piece uniquely upcycled with fresh new flair. Stylish\, sustainable\, and one-of-a-kind\, these reimagined garments celebrate individuality while reducing waste.\n\n\n\nAnd no worries about tariffs affecting this.\n\n\n\nFashion can be both fun and environmentally conscious. Making a difference   one unique piece at a time!\n\n\n\nJoin us this Saturday\, April 26th as we celebrate 18 years in business with sips and sweets\, drawings for gift certificates\, and 18% OFF everything in the shop!\n\n\n\nFor more information\, visit us at Sol Baby in Hermosa Beach or follow us on social media for updates.
X-ALT-DESC;FMTTYPE=text/html:Sol Baby is celebrating 18 incredible years in the heart of Hermosa Beach with an exciting new initiative that gives back to both our customers and the planet!<br />\n<br />\nWe&rsquo\;re thrilled to introduce <strong>re-Sol&rsquo\;d</strong>\, recycled and upcycled collection\, designed to keep beloved styles in circulation while promoting sustainability. As part of this program\, we&rsquo\;re launching a <strong>buy-back initiative</strong> for our ever-popular <strong>Rowdy Sprout rock tees and onesies</strong>. Customers can bring in their gently used pieces\, and after a condition review\, receive <strong>$5-$10 in store credit</strong> toward a future purchase.<br />\n<br />\nIn addition\, we&rsquo\;re unveiling <strong>Sol Baby reSOLd Upcycled oriGINAals</strong>&mdash\;a curated collection of perfectly pre-loved\, hand-selected children&#39\;s clothing\, each piece uniquely upcycled with fresh new flair. Stylish\, sustainable\, and one-of-a-kind\, these reimagined garments celebrate individuality while reducing waste.<br />\n<br />\nAnd no worries about tariffs affecting this.<br />\n<br />\nFashion can be both <strong>fun and environmentally conscious</strong>. Making a difference &ndash\; one unique piece at a time!<br />\n<br />\nJoin us this Saturday\, April 26th as we celebrate 18 years in business with sips and sweets\, drawings for gift certificates\, and <strong>18% OFF everything in the shop!</strong><br />\n<br />\nFor more information\, visit us at <strong>Sol Baby in Hermosa Beach</strong> or follow us on social media for updates.
LOCATION:Sol Baby 124 Pier Ave Hermosa Beach\, CA 90254
UID:e.2438.11601
SEQUENCE:3
DTSTAMP:20260422T210203Z
URL:https://business.hbchamber.net/events/details/sol-baby-s-18th-anniversary-11601
END:VEVENT

END:VCALENDAR
