BEGIN:VCALENDAR
VERSION:2.0
PRODID:-//ChamberMaster//Event Calendar 2.0//EN
METHOD:PUBLISH
X-PUBLISHED-TTL:P3D
REFRESH-INTERVAL:P3D
CALSCALE:GREGORIAN
BEGIN:VEVENT
DTSTART;VALUE=DATE:20220216
DTEND;VALUE=DATE:20220217
TRANSP:TRANSPARENT
X-MICROSOFT-CDO-ALLDAYEVENT:TRUE
SUMMARY:Social Media 101 Webinar
DESCRIPTION:MORE INFO TO COME
X-ALT-DESC;FMTTYPE=text/html:MORE INFO TO COME
LOCATION:
UID:e.2438.5082
SEQUENCE:3
DTSTAMP:20260421T131626Z
URL:https://business.hbchamber.net/events/details/social-media-101-webinar-5082
END:VEVENT

END:VCALENDAR
