BEGIN:VCALENDAR
VERSION:2.0
PRODID:-//ChamberMaster//Event Calendar 2.0//EN
METHOD:PUBLISH
X-PUBLISHED-TTL:P3D
REFRESH-INTERVAL:P3D
CALSCALE:GREGORIAN
BEGIN:VEVENT
DTSTART:20250701T170000Z
DTEND:20250701T180000Z
X-MICROSOFT-CDO-ALLDAYEVENT:FALSE
SUMMARY:Social Hour with BCHD Care Managers
DESCRIPTION:If you have a question regarding community resources or want to learn more about Beach Cities Health District\, please join us! If you want to share ways you are keeping busy or are looking for advice on ways to keep busy\, please join us! These meetings are for all\, a place to connect and feel heard.
X-ALT-DESC;FMTTYPE=text/html:If you have a question regarding community resources or want to learn more about Beach Cities Health District\, please join us! If you want to share ways you are keeping busy or are looking for advice on ways to keep busy\, please join us! These meetings are for all\, a place to connect and feel heard.&nbsp\;
LOCATION:VIRTUAL. Zoom Link: https://bchd-org.zoom.us/j/87651635014.
UID:e.2438.12448
SEQUENCE:3
DTSTAMP:20260423T040057Z
URL:https://business.hbchamber.net/events/details/social-hour-with-bchd-care-managers-12448
END:VEVENT

END:VCALENDAR
