BEGIN:VCALENDAR
VERSION:2.0
PRODID:-//ChamberMaster//Event Calendar 2.0//EN
METHOD:PUBLISH
X-PUBLISHED-TTL:P3D
REFRESH-INTERVAL:P3D
CALSCALE:GREGORIAN
BEGIN:VEVENT
DTSTART:20250609T210000Z
DTEND:20250609T220000Z
X-MICROSOFT-CDO-ALLDAYEVENT:FALSE
SUMMARY:Social Hour with a Beach Cities Health District Care Manager (In person)
DESCRIPTION:
X-ALT-DESC;FMTTYPE=text/html:
LOCATION:Manhattan Beach Joslyn Center\, Sunset Room 1601 N Valley Dr Manhattan Beach\, CA
UID:e.2438.12409
SEQUENCE:3
DTSTAMP:20260423T004918Z
URL:https://business.hbchamber.net/events/details/social-hour-with-a-beach-cities-health-district-care-manager-in-person-12409
END:VEVENT

END:VCALENDAR
