BEGIN:VCALENDAR
VERSION:2.0
PRODID:-//ChamberMaster//Event Calendar 2.0//EN
METHOD:PUBLISH
X-PUBLISHED-TTL:P3D
REFRESH-INTERVAL:P3D
CALSCALE:GREGORIAN
BEGIN:VEVENT
DTSTART:20250504T130000Z
DTEND:20250504T190000Z
X-MICROSOFT-CDO-ALLDAYEVENT:FALSE
SUMMARY:SoCal Beach Foundation
DESCRIPTION:The SoCal Beach Foundation will host adult beach volleyball tournaments on the north side of the Pier.\n\n\n\nFor more information\, visit www.socalbeachfoundation.com/index.html.
X-ALT-DESC;FMTTYPE=text/html:The SoCal Beach Foundation will host adult beach volleyball tournaments on the north side of the Pier.<br />\n<br />\nFor more information\, visit <a href="http://www.socalbeachfoundation.com/index.html">www.socalbeachfoundation.com/index.html</a>.&nbsp\;
LOCATION:Volleyball Courts 1 Pier Avenue Hermosa Beach\, California 90254
UID:e.2438.11565
SEQUENCE:3
DTSTAMP:20260422T224455Z
URL:https://business.hbchamber.net/events/details/socal-beach-foundation-11565
END:VEVENT

END:VCALENDAR
