BEGIN:VCALENDAR
VERSION:2.0
PRODID:-//ChamberMaster//Event Calendar 2.0//EN
METHOD:PUBLISH
X-PUBLISHED-TTL:P3D
REFRESH-INTERVAL:P3D
CALSCALE:GREGORIAN
BEGIN:VEVENT
DTSTART:20241016T010000Z
DTEND:20241016T040000Z
X-MICROSOFT-CDO-ALLDAYEVENT:FALSE
SUMMARY:Slay Strong Fundraising Dinner
DESCRIPTION:Please join Founder Malibu Dana at The Butterfly Strong Breast Cancer Foundation launch. Dinner and wine pairing by Chef David Slay. Help us advocate for early detection\, create a world where no breast cancer patient feels alone\, and fight for an end to this disease. Live auction\, opportunity drawing\, and donations will be processed on site.
X-ALT-DESC;FMTTYPE=text/html:Please join Founder Malibu Dana at The Butterfly Strong Breast Cancer Foundation launch. Dinner and wine pairing by Chef David Slay. Help us advocate for early detection\, create a world where no breast cancer patient feels alone\, and fight for an end to this disease. Live auction\, opportunity drawing\, and donations will be processed on site.
LOCATION:F te Bistro by Slay 1017 Manhattan Avenue Manhattan Beach\, CA
UID:e.2438.10653
SEQUENCE:3
DTSTAMP:20260421T034002Z
URL:https://business.hbchamber.net/events/details/slay-strong-fundraising-dinner-10653
END:VEVENT

END:VCALENDAR
