BEGIN:VCALENDAR
VERSION:2.0
PRODID:-//ChamberMaster//Event Calendar 2.0//EN
METHOD:PUBLISH
X-PUBLISHED-TTL:P3D
REFRESH-INTERVAL:P3D
CALSCALE:GREGORIAN
BEGIN:VEVENT
DTSTART:20250615T030000Z
DTEND:20250615T060000Z
X-MICROSOFT-CDO-ALLDAYEVENT:FALSE
SUMMARY:Slay by the Bay: Drag Show & Fundraiser
DESCRIPTION:SLAYYYYYY        Tickets are LIVE for our annual Drag Show as part of Hermosa Beach Pride weekend! Don't miss stunning performances by our fabulous line up of drag queens\, silent auction\, live music performances & a good ol' gay time.
X-ALT-DESC;FMTTYPE=text/html:SLAYYYYYY &#128483\;&#65039\;&#128378\;&#127995\;&#129705\;&#127752\; Tickets are LIVE for our annual Drag Show as part of Hermosa Beach Pride weekend! Don&#39\;t miss stunning performances by our fabulous line up of drag queens\, silent auction\, live music performances &amp\; a good ol&#39\; gay time.
LOCATION:Saint Rocke 142 Pacific Coast Hwy Hermosa Beach\, CA
UID:e.2438.12395
SEQUENCE:3
DTSTAMP:20260423T004256Z
URL:https://business.hbchamber.net/events/details/slay-by-the-bay-drag-show-fundraiser-12395
END:VEVENT

END:VCALENDAR
