BEGIN:VCALENDAR
VERSION:2.0
PRODID:-//ChamberMaster//Event Calendar 2.0//EN
METHOD:PUBLISH
X-PUBLISHED-TTL:P3D
REFRESH-INTERVAL:P3D
CALSCALE:GREGORIAN
BEGIN:VEVENT
DTSTART:20241215T200000Z
DTEND:20241216T000000Z
X-MICROSOFT-CDO-ALLDAYEVENT:FALSE
SUMMARY:Skate Museum Research Workshop (for high school students)
DESCRIPTION:Are you a high school student interested in how sports go down in history? At the Hermosa Beach Museum\, you can take part in writing skateboarding's story as a volunteer research assistant. Taking on the role of a museum registrar\, you will gain real-world experience in research\, data organization\, and interpretation as you help document our collection of over 100 skateboards. Optionally\, you may write brief descriptions of your favorite boards to be published on the museum website or social media. Enroll here to take part in one or both of our workshops on Sundays December 8th and 15th from 12pm to 4pm.\n\n\n\nPhotographs may be taken during this event for use in museum promotional materials\; please inform staff if you would not like photographs.
X-ALT-DESC;FMTTYPE=text/html:Are you a high school student interested in how sports go down in history? At the Hermosa Beach Museum\, you can take part in writing skateboarding&rsquo\;s story as a volunteer research assistant. Taking on the role of a museum registrar\, you will gain real-world experience in research\, data organization\, and interpretation as you help document our collection of over 100 skateboards. Optionally\, you may write brief descriptions of your favorite boards to be published on the museum website or social media. Enroll here to take part in one or both of our workshops on Sundays December 8th and 15th from 12pm to 4pm.<br />\n<br />\n<em>Photographs may be taken during this event for use in museum promotional materials\; please inform staff if you would not like photographs.&#8203\;</em>
LOCATION:Hermosa Beach Museum 710 Pier Ave Hermosa Beach\, CA 90254
UID:e.2438.10801
SEQUENCE:3
DTSTAMP:20260422T173216Z
URL:https://business.hbchamber.net/events/details/skate-museum-research-workshop-for-high-school-students-10801
END:VEVENT

END:VCALENDAR
