BEGIN:VCALENDAR
VERSION:2.0
PRODID:-//ChamberMaster//Event Calendar 2.0//EN
METHOD:PUBLISH
X-PUBLISHED-TTL:P3D
REFRESH-INTERVAL:P3D
CALSCALE:GREGORIAN
BEGIN:VEVENT
DTSTART:20250510T190000Z
DTEND:20250511T000000Z
X-MICROSOFT-CDO-ALLDAYEVENT:FALSE
SUMMARY:Silk Dye Workshop at Gallery of Hermosa
DESCRIPTION:Join us for an extraordinary opportunity to learn the traditional Japanese art of Shibori silk dyeing from Setsuko Hayashi\, an 85-year-old master artisan recognized as a national treasure. With over 60 years of experience teaching at museums\, galleries\, and art centers\, Setsuko continues to inspire artists worldwide. She also creates exquisite textile batik designs for international fashion designers in Bali\, Indonesia. Don't miss this rare chance to learn from a true legend in the craft. All materials and instruction included to create two two hand-dyed silk scarves. Great for Mother's Day\, to do with a friend\, or just to try something new! Light refreshments provided.
X-ALT-DESC;FMTTYPE=text/html:Join us for an extraordinary opportunity to learn the traditional Japanese art of Shibori silk dyeing from Setsuko Hayashi\, an 85-year-old master artisan recognized as a national treasure. With over 60 years of experience teaching at museums\, galleries\, and art centers\, Setsuko continues to inspire artists worldwide. She also creates exquisite textile batik designs for international fashion designers in Bali\, Indonesia. Don&#39\;t miss this rare chance to learn from a true legend in the craft. All materials and instruction included to create two two hand-dyed silk scarves. Great for Mother&#39\;s Day\, to do with a friend\, or just to try something new! Light refreshments provided.
LOCATION:Gallery of Hermosa 138 Pier Ave Hermosa Beach\, CA 90254
UID:e.2438.11463
SEQUENCE:3
DTSTAMP:20260422T224946Z
URL:https://business.hbchamber.net/events/details/silk-dye-workshop-at-gallery-of-hermosa-11463
END:VEVENT

END:VCALENDAR
