BEGIN:VCALENDAR
VERSION:2.0
PRODID:-//ChamberMaster//Event Calendar 2.0//EN
METHOD:PUBLISH
X-PUBLISHED-TTL:P3D
REFRESH-INTERVAL:P3D
CALSCALE:GREGORIAN
BEGIN:VEVENT
DTSTART:20241110T000000Z
DTEND:20241110T030000Z
X-MICROSOFT-CDO-ALLDAYEVENT:FALSE
SUMMARY:Secret Agent Entertainment's 10-Year Anniversary
DESCRIPTION:Secret Agent Entertainment\, a trailblazing woman-owned business\, proudly celebrates its 10-Year Anniversary! We celebrate a decade of female leadership in the music industry! Secret Agent Entertainment has empowered local south bay musicians\, providing opportunities to earn a living and support their families. Our commitment to nurturing talent has enriched the South Bay music scene since 2014 Highlights - Live music from Party Train's top musicians - Rock 'n' roll dance performance from whiskey gogo - Red-carpet photo ops - Interactive surprises
X-ALT-DESC;FMTTYPE=text/html:Secret Agent Entertainment\, a trailblazing woman-owned business\, proudly celebrates its 10-Year Anniversary! We celebrate a decade of female leadership in the music industry! Secret Agent Entertainment has empowered local south bay musicians\, providing opportunities to earn a living and support their families. Our commitment to nurturing talent has enriched the South Bay music scene since 2014 Highlights - Live music from Party Train&#39\;s top musicians - Rock &#39\;n&#39\; roll dance performance from whiskey gogo - Red-carpet photo ops - Interactive surprises
LOCATION:The Lighthouse Caf \, Hermosa Beach
UID:e.2438.10776
SEQUENCE:3
DTSTAMP:20260422T192705Z
URL:https://business.hbchamber.net/events/details/secret-agent-entertainment-s-10-year-anniversary-10776
END:VEVENT

END:VCALENDAR
