BEGIN:VCALENDAR
VERSION:2.0
PRODID:-//ChamberMaster//Event Calendar 2.0//EN
METHOD:PUBLISH
X-PUBLISHED-TTL:P3D
REFRESH-INTERVAL:P3D
CALSCALE:GREGORIAN
BEGIN:VEVENT
DTSTART:20220423T170000Z
DTEND:20220423T230000Z
X-MICROSOFT-CDO-ALLDAYEVENT:FALSE
SUMMARY:Sea Sprite Presents: Earth Day Beach Clean-Up!
DESCRIPTION:Join us this Earth Day in preserving the beautiful shored of the South Bay! There will be live music\, refreshments\, and cleaning supplies WILL BE PROVIDED.
X-ALT-DESC;FMTTYPE=text/html:Join us this Earth Day in preserving the beautiful shored of the South Bay! There will be live music\, refreshments\, and cleaning supplies WILL BE PROVIDED.&nbsp\;
LOCATION:Sea Sprite Hotel 1016 The Strand Hermosa Beach\, CA 90254
UID:e.2438.5373
SEQUENCE:3
DTSTAMP:20260421T093340Z
URL:https://business.hbchamber.net/events/details/sea-sprite-presents-earth-day-beach-clean-up-5373
END:VEVENT

END:VCALENDAR
