BEGIN:VCALENDAR
VERSION:2.0
PRODID:-//ChamberMaster//Event Calendar 2.0//EN
METHOD:PUBLISH
X-PUBLISHED-TTL:P3D
REFRESH-INTERVAL:P3D
CALSCALE:GREGORIAN
BEGIN:VEVENT
DTSTART:20241210T163000Z
DTEND:20241210T180000Z
X-MICROSOFT-CDO-ALLDAYEVENT:FALSE
SUMMARY:“Screenagers: Elementary School Age Edition” Movie Screening
DESCRIPTION:This new version of the original Screenagers movie addresses issues that elementary school aged kids\, parents and educators are facing   smartwatches in class\, unhooking from and monitoring video gaming\, social media pressures and exposure too young. Free childcare is available\, space is limited. \n\nwww.bchd.org/youthtech
X-ALT-DESC;FMTTYPE=text/html:This new version of the original Screenagers movie addresses issues that elementary school aged kids\, parents and educators are facing &ndash\; smartwatches in class\, unhooking from and monitoring video gaming\, social media pressures and exposure too young. Free childcare is available\, space is limited.&nbsp\;<br />\n<a href="http://www.bchd.org/youthtech">www.bchd.org/youthtech</a>
LOCATION:Pennekamp Elementary School 110 S. Rowell Ave. Manhattan Beach\, CA 90266
UID:e.2438.11024
SEQUENCE:3
DTSTAMP:20260422T173106Z
URL:https://business.hbchamber.net/events/details/screenagers-elementary-school-age-edition-movie-screening-11024
END:VEVENT

END:VCALENDAR
