BEGIN:VCALENDAR
VERSION:2.0
PRODID:-//ChamberMaster//Event Calendar 2.0//EN
METHOD:PUBLISH
X-PUBLISHED-TTL:P3D
REFRESH-INTERVAL:P3D
CALSCALE:GREGORIAN
BEGIN:VEVENT
DTSTART:20250514T003000Z
DTEND:20250514T020000Z
X-MICROSOFT-CDO-ALLDAYEVENT:FALSE
SUMMARY:Screenagers: Elementary School Age Edition
DESCRIPTION:Beach Cities Health District (BCHD) and South Bay Families Connected are partnering with Hermosa Beach City School District to host community showings of the documentary\, "Screenagers: Elementary School Age Edition\," the new version of the original Screenagers movie that addresses issues that elementary school-aged kids\, parents and educators are facing   smartwatches in class\, unhooking from and monitoring video gaming\, social media pressures and exposure too young. This event is intended for parents and caregivers to learn about existing research around these topics and potential solutions to these and other challenges to address and support mental well-being in the digital age. To register\, please visit www.bchd.org/youthtech.
X-ALT-DESC;FMTTYPE=text/html:Beach Cities Health District (BCHD) and South Bay Families Connected are partnering with Hermosa Beach City School District to host community showings of the documentary\, &ldquo\;Screenagers: Elementary School Age Edition\,&rdquo\; the new version of the original Screenagers movie that addresses issues that elementary school-aged kids\, parents and educators are facing &ndash\; smartwatches in class\, unhooking from and monitoring video gaming\, social media pressures and exposure too young. This event is intended for parents and caregivers to learn about existing research around these topics and potential solutions to these and other challenges to address and support mental well-being in the digital age. To register\, please visit <a href="http://www.bchd.org/youthtech">www.bchd.org/youthtech</a>.&nbsp\;
LOCATION:Hermosa View Elementary School 1800 Prospect Ave Hermosa Beach\, CA 90254
UID:e.2438.11535
SEQUENCE:3
DTSTAMP:20260422T224023Z
URL:https://business.hbchamber.net/events/details/screenagers-elementary-school-age-edition-11535
END:VEVENT

END:VCALENDAR
