BEGIN:VCALENDAR
VERSION:2.0
PRODID:-//ChamberMaster//Event Calendar 2.0//EN
METHOD:PUBLISH
X-PUBLISHED-TTL:P3D
REFRESH-INTERVAL:P3D
CALSCALE:GREGORIAN
BEGIN:VEVENT
DTSTART:20240426T180000Z
DTEND:20240426T220000Z
X-MICROSOFT-CDO-ALLDAYEVENT:FALSE
SUMMARY:SCORE’s Next Level Women’s Event
DESCRIPTION:SCORE Los Angeles is hosting a FREE program for women business owners.\n\n\n\nCome learn strategies to grow your business with live\, interactive presentations on Digital Marketing\, HR\, Financing and Networking. Plus\, a working lunch will be provided and the opportunity to meet other successful women in business.\n\n\n\nThis event is geared towards women entrepreneurs. To qualify for this exciting live event:\n\n\n\nYou must have been in business before 2022.\n\nYou must be currently working at the business full-time.\n\nYou must be profitable.\n\nOur program presenters:\n\n\n\nMaster Your Online Presence\n\n\n\nInes Nasri: SCORE Mentor and public speaker\, loves educating business leaders about the digital world's growth opportunities. She's the founder of Webpower USA\, an aggressive Online Growth Accelerator Program that takes any small business\, within six months\, to the point where they rank for their top services on Google on the 1st page. She is an expert in all things digital including SEO\, Content and Branding.\n\n\n\nFinancial Strategies for Scaling\n\n\n\nGreta Goldstein: SCORE Mentor with financial service expertise. She spent years as a high-level executive and consultant with a record of exceptional results\, specializing in strategy\, risk\, and transformation. Broad and deep expertise as a trusted advisor and leading programs across financial services. Synthesizes complex and critical information quickly to create a compelling strategy and plan of action.\n\n\n\nLynda Martin-Lawley: A consultant and SCORE Mentor\, Lynda has a comprehensive background in finance and sales. She specializes in coaching motivational skills to maximize profitability and performance at every level of a sales and operational organization.\n\n\n\nHR Hiring Strategies\n\n\n\nKatrinka Duckworth: SCORE Mentor and public speaker. An MBA and business owner herself\, she is a problem-solver who can successfully manage multiple priorities and perform under pressure in a fast-paced\, rapidly changing environment. Key accomplishments include various process improvements\, increasing firm wide diversity through training and targeted recruiting strategies\, and HR systems design\, project management and implementation.\n\n\n\nThe Power of Connections: Leveraging Network for Your Small Business\n\n\n\nPatty Ross: SCORE workshop presenter has over 20 years' experience in marketing and has been in the online space since 1998 where she developed an e-commerce program for a gourmet gift company into a million-dollar business. She has spent 15 years helping the wine industry gain traction online and has since branched out to help other industries grow their brands including restaurant\, financial\, legal\, health and beauty\, motorsports\, landscape design\, political activism\, and nonprofits. Golden State Marketing\, and her other business\, California Wine Marketing\, were founded in 2006.\n\n\n\nSpace is limited so register today! You must be registered to attend.\n\n\n\nParking details: Library parking is prohibited however there is street parking available.
X-ALT-DESC;FMTTYPE=text/html:SCORE Los Angeles is hosting a FREE program for women business owners.<br />\n<br />\nCome learn strategies to grow your business with live\, interactive presentations on Digital Marketing\, HR\, Financing and Networking. Plus\, a working lunch will be provided and the opportunity to meet other successful women in business.<br />\n<br />\nThis event is geared towards women entrepreneurs. To qualify for this exciting live event:<br />\n<br />\nYou must have been in business before 2022.<br />\nYou must be currently working at the business full-time.<br />\nYou must be profitable.<br />\nOur program presenters:<br />\n<br />\nMaster Your Online Presence<br />\n<br />\nInes Nasri: SCORE Mentor and public speaker\, loves educating business leaders about the digital world&rsquo\;s growth opportunities. She&rsquo\;s the founder of Webpower USA\, an aggressive Online Growth Accelerator Program that takes any small business\, within six months\, to the point where they rank for their top services on Google on the 1st page. She is an expert in all things digital including SEO\, Content and Branding.<br />\n<br />\nFinancial Strategies for Scaling<br />\n<br />\nGreta Goldstein: SCORE Mentor with financial service expertise. She spent years as a high-level executive and consultant with a record of exceptional results\, specializing in strategy\, risk\, and transformation. Broad and deep expertise as a trusted advisor and leading programs across financial services. Synthesizes complex and critical information quickly to create a compelling strategy and plan of action.<br />\n<br />\nLynda Martin-Lawley: A consultant and SCORE Mentor\, Lynda has a comprehensive background in finance and sales. She specializes in coaching motivational skills to maximize profitability and performance at every level of a sales and operational organization.<br />\n<br />\nHR Hiring Strategies<br />\n<br />\nKatrinka Duckworth: SCORE Mentor and public speaker. An MBA and business owner herself\, she is a problem-solver who can successfully manage multiple priorities and perform under pressure in a fast-paced\, rapidly changing environment. Key accomplishments include various process improvements\, increasing firm wide diversity through training and targeted recruiting strategies\, and HR systems design\, project management and implementation.<br />\n<br />\nThe Power of Connections: Leveraging Network for Your Small Business<br />\n<br />\nPatty Ross: SCORE workshop presenter has over 20 years&rsquo\; experience in marketing and has been in the online space since 1998 where she developed an e-commerce program for a gourmet gift company into a million-dollar business. She has spent 15 years helping the wine industry gain traction online and has since branched out to help other industries grow their brands including restaurant\, financial\, legal\, health and beauty\, motorsports\, landscape design\, political activism\, and nonprofits. Golden State Marketing\, and her other business\, California Wine Marketing\, were founded in 2006.<br />\n<br />\nSpace is limited so register today! You must be registered to attend.<br />\n<br />\nParking details: Library parking is prohibited however there is street parking available.
LOCATION:Buena Vista Branch Library 300 N Buena Vista Street Burbank\, CA 91505
UID:e.2438.9415
SEQUENCE:3
DTSTAMP:20260421T135557Z
URL:https://business.hbchamber.net/events/details/score-s-next-level-women-s-event-9415
END:VEVENT

END:VCALENDAR
