BEGIN:VCALENDAR
VERSION:2.0
PRODID:-//ChamberMaster//Event Calendar 2.0//EN
METHOD:PUBLISH
X-PUBLISHED-TTL:P3D
REFRESH-INTERVAL:P3D
CALSCALE:GREGORIAN
BEGIN:VEVENT
DTSTART:20220323T170000Z
DTEND:20220323T183000Z
X-MICROSOFT-CDO-ALLDAYEVENT:FALSE
SUMMARY:SCORE LA: Win Customers with Your Website
DESCRIPTION:How do you set your website up to win over customers? Your website has to attract and engage visitors\, educate them about your products and services\, and convert them into customers.\n\nSuccess begins with a plan!\n\nThis webinar\, presented by Co-Founder of Cardsetter Jessica Baldwin\, will show you the key elements your website needs to succeed.\n\nAfter the session\, you'll have a better understanding of:\n\n  The critical role your website plays in your online marketing strategy\n\n  The features and tools you'll need to execute your plan\n\n  How to get everything working together to achieve your goals\n\n  How to set your website up to attract\, engage\, and convert your ideal customers\n\nAttendees will receive a free website planning workbook.
X-ALT-DESC;FMTTYPE=text/html:<p style="box-sizing: border-box\; margin-top: 0px\; margin-bottom: 1.75em\; widows: 3\; orphans: 3\; color: rgb(20\, 20\, 20)\; font-family: Montserrat\, sans-serif\; font-size: 16px\;">How do you set your website up to win over customers? Your website has to attract and engage visitors\, educate them about your products and services\, and convert them into customers.</p>\n\n<p style="box-sizing: border-box\; margin-top: 0px\; margin-bottom: 1.75em\; widows: 3\; orphans: 3\; color: rgb(20\, 20\, 20)\; font-family: Montserrat\, sans-serif\; font-size: 16px\;">Success begins with a plan!</p>\n\n<p style="box-sizing: border-box\; margin-top: 0px\; margin-bottom: 1.75em\; widows: 3\; orphans: 3\; color: rgb(20\, 20\, 20)\; font-family: Montserrat\, sans-serif\; font-size: 16px\;">This webinar\, presented by Co-Founder of Cardsetter Jessica Baldwin\, will show you the key elements your website needs to succeed.</p>\n\n<p style="box-sizing: border-box\; margin-top: 0px\; margin-bottom: 1.75em\; widows: 3\; orphans: 3\; color: rgb(20\, 20\, 20)\; font-family: Montserrat\, sans-serif\; font-size: 16px\;">After the session\, you&rsquo\;ll have a better understanding of:<br style="box-sizing: border-box\;" />\n&bull\; The critical role your website plays in your online marketing strategy<br style="box-sizing: border-box\;" />\n&bull\; The features and tools you&#39\;ll need to execute your plan<br style="box-sizing: border-box\;" />\n&bull\; How to get everything working together to achieve your goals<br style="box-sizing: border-box\;" />\n&bull\; How to set your website up to attract\, engage\, and convert your ideal customers</p>\n\n<p style="box-sizing: border-box\; margin-top: 0px\; margin-bottom: 1.75em\; widows: 3\; orphans: 3\; color: rgb(20\, 20\, 20)\; font-family: Montserrat\, sans-serif\; font-size: 16px\;">Attendees will receive a free website planning workbook.</p>\n
LOCATION:Virtual\, Register now.
UID:e.2438.5286
SEQUENCE:3
DTSTAMP:20260421T105507Z
URL:https://business.hbchamber.net/events/details/score-la-win-customers-with-your-website-5286
END:VEVENT

END:VCALENDAR
