BEGIN:VCALENDAR
VERSION:2.0
PRODID:-//ChamberMaster//Event Calendar 2.0//EN
METHOD:PUBLISH
X-PUBLISHED-TTL:P3D
REFRESH-INTERVAL:P3D
CALSCALE:GREGORIAN
BEGIN:VEVENT
DTSTART:20220207T180000Z
DTEND:20220207T193000Z
X-MICROSOFT-CDO-ALLDAYEVENT:FALSE
SUMMARY:SCORE LA: Website Planning 101: Take your first step to website success!
DESCRIPTION:Ready for a new website? Whether you're building it yourself or you decide to work with a pro\, getting organized is the key to your website's success!\n\nWhat You Will Learn:\n\n  Define your audience.\n\n  Set your website's goals.\n\n  Determine key functionality and features.\n\n  Plan your website content.\n\n  Get your accounts and logins in order.\n\nAfter this webinar\, you'll have a comprehensive plan in place for your business's website.\n\nAttendees may also request the free workbook upon completion of the webinar.
X-ALT-DESC;FMTTYPE=text/html:<p style="box-sizing: border-box\; margin-top: 0px\; margin-bottom: 1.75em\; widows: 3\; orphans: 3\; color: rgb(20\, 20\, 20)\; font-family: Montserrat\, sans-serif\; font-size: 16px\;">Ready for a new website? Whether you&#39\;re building it yourself or you decide to work with a pro\, getting organized is the key to your website&#39\;s success!</p>\n\n<p style="box-sizing: border-box\; margin-top: 0px\; margin-bottom: 1.75em\; widows: 3\; orphans: 3\; color: rgb(20\, 20\, 20)\; font-family: Montserrat\, sans-serif\; font-size: 16px\;">What You Will Learn:<br style="box-sizing: border-box\;" />\n&bull\; Define your audience.<br style="box-sizing: border-box\;" />\n&bull\; Set your website&#39\;s goals.<br style="box-sizing: border-box\;" />\n&bull\; Determine key functionality and features.<br style="box-sizing: border-box\;" />\n&bull\; Plan your website content.<br style="box-sizing: border-box\;" />\n&bull\; Get your accounts and logins in order.</p>\n\n<p style="box-sizing: border-box\; margin-top: 0px\; margin-bottom: 1.75em\; widows: 3\; orphans: 3\; color: rgb(20\, 20\, 20)\; font-family: Montserrat\, sans-serif\; font-size: 16px\;">After this webinar\, you&#39\;ll have a comprehensive plan in place for your business&#39\;s website.<br style="box-sizing: border-box\;" />\nAttendees may also request the free workbook upon completion of the webinar.</p>\n
LOCATION:Virtual\, Register now.
UID:e.2438.5152
SEQUENCE:3
DTSTAMP:20260421T134111Z
URL:https://business.hbchamber.net/events/details/score-la-website-planning-101-take-your-first-step-to-website-success-5152
END:VEVENT

END:VCALENDAR
