BEGIN:VCALENDAR
VERSION:2.0
PRODID:-//ChamberMaster//Event Calendar 2.0//EN
METHOD:PUBLISH
X-PUBLISHED-TTL:P3D
REFRESH-INTERVAL:P3D
CALSCALE:GREGORIAN
BEGIN:VEVENT
DTSTART:20220303T183000Z
DTEND:20220303T200000Z
X-MICROSOFT-CDO-ALLDAYEVENT:FALSE
SUMMARY:SCORE LA: Wealth Building Concepts and Financial Tools for Business Owners
DESCRIPTION:Whether a mature business or a startup\, this workshop focuses on various strategies and financial tools all small business owners should know about. We will discuss tax reduction concepts\, employee attraction and retention\, asset protection\, repositions assets for greater liquidity\, preparing your business for sale or succession\, and unlocking the value you in your business for your retirement and legacy.
X-ALT-DESC;FMTTYPE=text/html:<p style="box-sizing: border-box\; margin-top: 0px\; margin-bottom: 1.75em\; widows: 3\; orphans: 3\; color: rgb(20\, 20\, 20)\; font-family: Montserrat\, sans-serif\; font-size: 16px\;">Whether a mature business or a startup\, this workshop focuses on various strategies and financial tools all small business owners should know about. We will discuss tax reduction concepts\, employee attraction and retention\, asset protection\, repositions assets for greater liquidity\, preparing your business for sale or succession\, and unlocking the value you in your business for your retirement and legacy.&nbsp\;</p>\n
LOCATION:Virtual\, Register now.
UID:e.2438.5281
SEQUENCE:3
DTSTAMP:20260421T112217Z
URL:https://business.hbchamber.net/events/details/score-la-wealth-building-concepts-and-financial-tools-for-business-owners-5281
END:VEVENT

END:VCALENDAR
